BEGIN:VCALENDAR
VERSION:2.0
PRODID:-//schaudichan.com - ECPv5.16.4.1//NONSGML v1.0//EN
CALSCALE:GREGORIAN
METHOD:PUBLISH
X-WR-CALNAME:schaudichan.com
X-ORIGINAL-URL:https://schaudichan.com
X-WR-CALDESC:Veranstaltungen für schaudichan.com
BEGIN:VTIMEZONE
TZID:Europe/Helsinki
BEGIN:DAYLIGHT
TZOFFSETFROM:+0200
TZOFFSETTO:+0300
TZNAME:EEST
DTSTART:20130331T010000
END:DAYLIGHT
BEGIN:STANDARD
TZOFFSETFROM:+0300
TZOFFSETTO:+0200
TZNAME:EET
DTSTART:20131027T010000
END:STANDARD
END:VTIMEZONE
BEGIN:VEVENT
DTSTART;TZID=Europe/Helsinki:20130920T220000
DTEND;TZID=Europe/Helsinki:20130920T220000
DTSTAMP:20260421T205309
CREATED:20130809T113241Z
LAST-MODIFIED:20141204T223715Z
UID:1340-1379714400-1379714400@schaudichan.com
SUMMARY:Herzblut im Wunderland @ Herzblut
DESCRIPTION:Herzblut im Wunderland präsentiert von Hans Albern!\n \nJeden 3. Freitag im Monat ab 22 Uhr entführt dich Hans in seine schräge bunte Partywelt. Lass dich überraschen\, zu welchem Thema er sich nun wieder allerhand Komisches und Verrücktes ausgedacht hat\, um dir und deinen Freunden eine unvergessliche Nacht im Herzblut St. Pauli zu bescheren. \nDer Eintritt beträgt nur 7 Euro und dafür gibt es sogar noch einen frechen Shooter für lau dazu. Was\, du bist ein Pfennigfuchser? Na\, dann erscheine doch einfach vor 22 Uhr (z.B. zum Essen)\, denn das Herzblut öffnet ja bereits um 17 Uhr.[ssba_hide]
URL:https://schaudichan.com/event/2013-09-20-herzblut-im-wunderland-herzblut/2013-09-20/
LOCATION:Herzblut St. Pauli\, Reeperbahn 50\, Hamburg\, 20359\, Deutschland
CATEGORIES:Party
ATTACH;FMTTYPE=image/jpeg:https://schaudichan.com/sda-wp/wp-content/uploads/2013/05/herzblut_st_pauli.jpg
GEO:53.549885;9.9642807
X-APPLE-STRUCTURED-LOCATION;VALUE=URI;X-ADDRESS=Herzblut St. Pauli Reeperbahn 50 Hamburg 20359 Deutschland;X-APPLE-RADIUS=500;X-TITLE=Reeperbahn 50:geo:9.9642807,53.549885
END:VEVENT
END:VCALENDAR