BEGIN:VCALENDAR
VERSION:2.0
PRODID:-//schaudichan.com - ECPv5.16.4.1//NONSGML v1.0//EN
CALSCALE:GREGORIAN
METHOD:PUBLISH
X-WR-CALNAME:schaudichan.com
X-ORIGINAL-URL:https://schaudichan.com
X-WR-CALDESC:Veranstaltungen für schaudichan.com
BEGIN:VTIMEZONE
TZID:Europe/Helsinki
BEGIN:DAYLIGHT
TZOFFSETFROM:+0200
TZOFFSETTO:+0300
TZNAME:EEST
DTSTART:20180325T010000
END:DAYLIGHT
BEGIN:STANDARD
TZOFFSETFROM:+0300
TZOFFSETTO:+0200
TZNAME:EET
DTSTART:20181028T010000
END:STANDARD
END:VTIMEZONE
BEGIN:VEVENT
DTSTART;TZID=Europe/Helsinki:20180310T200000
DTEND;TZID=Europe/Helsinki:20180310T200000
DTSTAMP:20260424T114102
CREATED:20171114T215936Z
LAST-MODIFIED:20171114T215936Z
UID:17106-1520712000-1520712000@schaudichan.com
SUMMARY:Ralf Schmitz - Schmitzenklasse @ Audimax Hamburg
DESCRIPTION:Beim Wirbelwind Ralf Schmitz gibt es kein Halten!\n \nRalf Schmitz – Komiker\, Autor\, Moderator\, Schauspieler\, Synchron-Sprecher und Musiker in Personalunion kommt mit seinem mittlerweile sechsten Live-Programm in Ihre Stadt. Das wird ein Fest! \nSein Bühnenprogramm bietet Improvisation pur\, locker aus dem Ärmel geschüttelte Pointen und natürlich jede Menge Spaß. Kurzum: Ein Marathon für die Lachmuskeln. \nIn seinem neuesten Live-Lach-Werk nimmt uns Ralf Schmitz mit auf eine ganz spezielle („Klassen“-) Fahrt – zurück in die Schulzeit mit verrückten Lehrern\, Freistunden\, schlechten Noten und ebenso schlecht belegten Pausenbroten. Im Religionsunterricht präsentiert er die ganze Bibelgeschichte \nin fünf Minuten\, berichtet von seiner durchgeknallten Französischlehrerin und erinnert an den „Flutschfinger“ am Kiosk auf dem Nachhauseweg. Beim Blick zurück darf natürlich auch die Zeit als Messdiener nicht fehlen\, die er in urkomischen Episoden zum Besten gibt. Ein Ausflug der „schmitzschen“ Extraklasse sozusagen – rasant\, spontan\, abenteuerlich\, irrwitzig\, kurzweilig und in jedem Fall unvergesslich! \n>> Tickets zum Event <<[ssba_hide]
URL:https://schaudichan.com/event/comedy-ralf-schmitz-schmitzenklasse-audimax-hamburg-10-03-2018/
LOCATION:Audimax Hamburg\, Von-Melle-Park 4\, Hamburg\, 20146\, Deutschland
CATEGORIES:Comedy
ATTACH;FMTTYPE=image/jpeg:https://schaudichan.com/sda-wp/wp-content/uploads/2017/11/ralf_schmitz_schmitzenklasse_001.jpg
GEO:53.56644;9.985242
X-APPLE-STRUCTURED-LOCATION;VALUE=URI;X-ADDRESS=Audimax Hamburg Von-Melle-Park 4 Hamburg 20146 Deutschland;X-APPLE-RADIUS=500;X-TITLE=Von-Melle-Park 4:geo:9.985242,53.56644
END:VEVENT
END:VCALENDAR