BEGIN:VCALENDAR
VERSION:2.0
PRODID:-//schaudichan.com - ECPv5.16.4.1//NONSGML v1.0//EN
CALSCALE:GREGORIAN
METHOD:PUBLISH
X-WR-CALNAME:schaudichan.com
X-ORIGINAL-URL:https://schaudichan.com
X-WR-CALDESC:Veranstaltungen für schaudichan.com
BEGIN:VTIMEZONE
TZID:Europe/Helsinki
BEGIN:DAYLIGHT
TZOFFSETFROM:+0200
TZOFFSETTO:+0300
TZNAME:EEST
DTSTART:20140330T010000
END:DAYLIGHT
BEGIN:STANDARD
TZOFFSETFROM:+0300
TZOFFSETTO:+0200
TZNAME:EET
DTSTART:20141026T010000
END:STANDARD
END:VTIMEZONE
BEGIN:VEVENT
DTSTART;TZID=Europe/Helsinki:20140329T200000
DTEND;TZID=Europe/Helsinki:20140329T200000
DTSTAMP:20260423T053938
CREATED:20130810T211659Z
LAST-MODIFIED:20140328T230719Z
UID:1380-1396123200-1396123200@schaudichan.com
SUMMARY:Ralf Schmitz - Schmitzpiepe @ Audimax Hamburg
DESCRIPTION:Beim Wirbelwind Ralf Schmitz gibt es kein Halten!\n \nEigentlich könnte es der preisgekrönte Comedian ja ruhig angehen lassen – schließlich kann er bereits auf drei sehr erfolgreiche Soloprogramme zurückblicken. Aber das wäre nun wirklich kein Schmitz! und schon gar kein Ralf Schmitz! \nUnd deswegen geht es direkt in 2013 mit seinem neuen und vierten Programm „Schmitzpiepe“ mit Überschallgeschwindigkeit weiter. Und ist er einmal losgelassen\, gibt es kein Halten mehr. Und er kriegt sie alle: bis in die letzte Reihe! \nRalf Schmitz – bekannt für sein schlagfertiges Improvisationstalent\, seine rasante Performance und die Fähigkeit\, das Publikum derart mit sich zu reißen\, dass die Halle bebt – will es diesmal wirklich wissen und stellt endlich die wichtigen Fragen des Lebens: \n– Wie kann man sich selber ins Wort fallen und dabei auch noch immer Recht haben? \n\n– Wie würde es aussehen\, wenn wir durch unsere eigene Zeugungsgeschichte zappen könnten? Und wollen wir das überhaupt? \n– Was macht man\, wenn man die Liebste beeindrucken will\, dabei aber die Karaoke-Maschine durchdreht? \n– Was genau ist Muckauf? Und wie kann man sich das einfangen? \n– Wie kommt es zu einem überraschenden Konzert im Wartezimmer? \n\nWer die Antworten auf diese existenziellen Fragen nicht verpassen möchte\, sollte sich am 29. März 2014 auf den Weg ins Audimax Hamburg machen!>> Tickets zum Event <<[ssba_hide]
URL:https://schaudichan.com/event/comedy-ralf-schmitz-schmitzpiepe-hamburg-2014/
LOCATION:Audimax Hamburg\, Von-Melle-Park 4\, Hamburg\, 20146\, Deutschland
CATEGORIES:Comedy
ATTACH;FMTTYPE=image/jpeg:https://schaudichan.com/sda-wp/wp-content/uploads/2013/08/ralf_schmitz_001.jpg
GEO:53.56644;9.985242
X-APPLE-STRUCTURED-LOCATION;VALUE=URI;X-ADDRESS=Audimax Hamburg Von-Melle-Park 4 Hamburg 20146 Deutschland;X-APPLE-RADIUS=500;X-TITLE=Von-Melle-Park 4:geo:9.985242,53.56644
END:VEVENT
END:VCALENDAR