BEGIN:VCALENDAR
VERSION:2.0
PRODID:-//schaudichan.com - ECPv5.16.4.1//NONSGML v1.0//EN
CALSCALE:GREGORIAN
METHOD:PUBLISH
X-WR-CALNAME:schaudichan.com
X-ORIGINAL-URL:https://schaudichan.com
X-WR-CALDESC:Veranstaltungen für schaudichan.com
BEGIN:VTIMEZONE
TZID:Europe/Helsinki
BEGIN:DAYLIGHT
TZOFFSETFROM:+0200
TZOFFSETTO:+0300
TZNAME:EEST
DTSTART:20220327T010000
END:DAYLIGHT
BEGIN:STANDARD
TZOFFSETFROM:+0300
TZOFFSETTO:+0200
TZNAME:EET
DTSTART:20221030T010000
END:STANDARD
END:VTIMEZONE
BEGIN:VEVENT
DTSTART;TZID=Europe/Helsinki:20220721T120000
DTEND;TZID=Europe/Helsinki:20220724T180000
DTSTAMP:20260421T141954
CREATED:20220502T213519Z
LAST-MODIFIED:20220502T233157Z
UID:24567-1658404800-1658685600@schaudichan.com
SUMMARY:Deichbrand 2022 @ Seeflughafen Cuxhaven-Nordholz
DESCRIPTION:Das „Festival an der Nordsee“ in Cuxhaven!\n \nWichtiger Hinweis: Bitte beachtet beim Ticketkauf\, dass es für jede Veranstaltung bestimmte COVID-19-Richtlinien gibt. Es ist nicht ausgeschlossen\, dass sich diese je nach gültiger Coronavirus-Landesverordnung noch kurzfristig ändern könnten. Informiert Euch bitte vorher beim Veranstalter oder der Ticketvorverkaufsstelle\, welche Einlassregeln gerade gelten!\n\nSeine Festivalpremiere feierte Deichbrand im Jahr 2005. Seitdem ist das „Festival an der Nordsee“ nicht mehr wegzudenken und gehört für Open-Air-Gänger zum Pflichtprogramm. Fest verankert mit Cuxhaven\, dem größten deutschen Nordseeheilbad\, werden auch in diesem Jahr wieder alle Deichbrand-Fans ein fettes Line-up geboten bekommen. \nUnter anderem sind für die 16. Auflage des Open-Air folgende Acts bestätigt: Kraftklub\, Steve Aoki\, Nightwish\, Apache 207\, Capital Bra\, Sido\, Bosse\, Clueso\, Bausa\, Passenger\, Finch\, Mia\, Guano Apes\, Afrob\, H-Blockx \nAuch alle Fans der elektronischen Tanzmusik kommen voll auf ihre Kosten. Feinste Elektrobeats liefern unter anderem: Sven Väth\, Maceo Plex\, Len Faki\, Pan-Pot\, Westbam\, Klaudia Gawlas\, Dr. Motte \n>> Tickets zum Event <<
URL:https://schaudichan.com/event/festival-deichbrand-2022-seeflughafen-cuxhaven-nordholz/
LOCATION:Seeflughafen Cuxhaven-Nordholz\, Walter-Carstens-Straße 1\, Nordholz\, 27637\, Deutschland
CATEGORIES:Festivals
ATTACH;FMTTYPE=image/jpeg:https://schaudichan.com/sda-wp/wp-content/uploads/2022/05/deichbrand_festival_2022_cuxhaven_001.jpg
GEO:53.767312;8.658202
X-APPLE-STRUCTURED-LOCATION;VALUE=URI;X-ADDRESS=Seeflughafen Cuxhaven-Nordholz Walter-Carstens-Straße 1 Nordholz 27637 Deutschland;X-APPLE-RADIUS=500;X-TITLE=Walter-Carstens-Straße 1:geo:8.658202,53.767312
END:VEVENT
END:VCALENDAR