BEGIN:VCALENDAR
VERSION:2.0
PRODID:-//schaudichan.com - ECPv5.16.4.1//NONSGML v1.0//EN
CALSCALE:GREGORIAN
METHOD:PUBLISH
X-WR-CALNAME:schaudichan.com
X-ORIGINAL-URL:https://schaudichan.com
X-WR-CALDESC:Veranstaltungen für schaudichan.com
BEGIN:VTIMEZONE
TZID:Europe/Helsinki
BEGIN:DAYLIGHT
TZOFFSETFROM:+0200
TZOFFSETTO:+0300
TZNAME:EEST
DTSTART:20190331T010000
END:DAYLIGHT
BEGIN:STANDARD
TZOFFSETFROM:+0300
TZOFFSETTO:+0200
TZNAME:EET
DTSTART:20191027T010000
END:STANDARD
END:VTIMEZONE
BEGIN:VEVENT
DTSTART;TZID=Europe/Helsinki:20190907T120000
DTEND;TZID=Europe/Helsinki:20190907T120000
DTSTAMP:20260422T093616
CREATED:20190714T190707Z
LAST-MODIFIED:20190714T190707Z
UID:19990-1567857600-1567857600@schaudichan.com
SUMMARY:Holi Festival Of Colours @ Galopprennbahn Hamburg
DESCRIPTION:Deutschland im Farbenrausch: das Holi Festival Of Colours!\n \nEine fröhliche Menschenmenge\, ein stündlicher Countdown und eine große Wolke aus bunten Farben – das sind die Holi Festivals Of Colours. Angelehnt an das traditionelle indische Frühlingsfest kamen die Farbfestivals nach Deutschland und begeisterten Tausende. Genauso bunt – wenn nicht sogar noch bunter – geht es auch in diesem Jahr weiter! \nDas Holi Festival of Colours ist Deutschlands größtes Farbenfest. Das Zusammenspiel mit dem Publikum und die Verbindung zum indischen Holi machen es für die Besucher zu einem einzigartigen Erlebnis. Erfahrung und Professionalität der Veranstalter sichern zudem beste Standards bei Location\, Organisation und Sicherheit! \nFoto-Credit: Holi Festival Of Colours \n>> Tickets zum Event <<[ssba_hide]
URL:https://schaudichan.com/event/festival-holi-festival-of-colours-galopprennbahn-hamburg-horn-07-09-2019/
LOCATION:Galopprennbahn Hamburg-Horn\, Rennbahnstrasse 96\, Hamburg\, 22111\, Deutschland
CATEGORIES:Festivals
ATTACH;FMTTYPE=image/jpeg:https://schaudichan.com/sda-wp/wp-content/uploads/2019/07/holi_festival_of_colours_001.jpg
END:VEVENT
END:VCALENDAR