BEGIN:VCALENDAR
VERSION:2.0
PRODID:-//schaudichan.com - ECPv5.16.4.1//NONSGML v1.0//EN
CALSCALE:GREGORIAN
METHOD:PUBLISH
X-WR-CALNAME:schaudichan.com
X-ORIGINAL-URL:https://schaudichan.com
X-WR-CALDESC:Veranstaltungen für schaudichan.com
BEGIN:VTIMEZONE
TZID:Europe/Helsinki
BEGIN:DAYLIGHT
TZOFFSETFROM:+0200
TZOFFSETTO:+0300
TZNAME:EEST
DTSTART:20140330T010000
END:DAYLIGHT
BEGIN:STANDARD
TZOFFSETFROM:+0300
TZOFFSETTO:+0200
TZNAME:EET
DTSTART:20141026T010000
END:STANDARD
END:VTIMEZONE
BEGIN:VEVENT
DTSTART;TZID=Europe/Helsinki:20140430T180000
DTEND;TZID=Europe/Helsinki:20140501T090000
DTSTAMP:20260421T145417
CREATED:20140116T163749Z
LAST-MODIFIED:20140219T195836Z
UID:3688-1398880800-1398934800@schaudichan.com
SUMMARY:Mayday 2014 @ Westfalenhallen Dortmund
DESCRIPTION:Mayday – Die „Mutter aller Raves“!\n\n„FULL SENSES“ – das diesjährige Mayday-Motto ruft die Einzigartigkeit von Live-Events ins Bewusstsein. \nMit allen Sinnen erleben: Eine Aufforderung an die 25.000 erwarteten Besucher\, die am 30.04. in den Dortmunder Westfalenhallen 15 Stunden lang feiern sollen. \nFür den richtigen Sound dabei sorgen über 50 DJs und LiveActs mit sämtlichen Stilen elektronischer Musik. \nMit dabei der holländische Hit-Produzent Fedde Le Grand („Put your hands up for Detroit“)\, Superstar Paul van Dyk\, Techno-Altmeister Sven Väth und der spanische Shootingstar Danny Avila. \n \nIn den Westfalenhallen wird auf fünf Floors mit insgesamt 20.000 Quadratmeter Fläche ge-feiert. \nEin in Deutschland außergewöhnliches Highlight kann man in der „Arena“ sehen: Eine beeindruckende Kinetik-Konstruktion\, die über den Köpfen der Besucher zu „schweben“ scheint.\n>> Tickets zum Event <<[ssba_hide]
URL:https://schaudichan.com/event/festival-mayday-westfalenhallen-dortmund-30-04-2014/
LOCATION:Westfalenhallen Dortmund\, Strobelallee 45\, Dortmund\, 44139\, Deutschland
CATEGORIES:Festivals
ATTACH;FMTTYPE=image/jpeg:https://schaudichan.com/sda-wp/wp-content/uploads/2014/01/140430_mayday_2014_dortmund_001.jpg
GEO:51.4962035;7.4579981
X-APPLE-STRUCTURED-LOCATION;VALUE=URI;X-ADDRESS=Westfalenhallen Dortmund Strobelallee 45 Dortmund 44139 Deutschland;X-APPLE-RADIUS=500;X-TITLE=Strobelallee 45:geo:7.4579981,51.4962035
END:VEVENT
END:VCALENDAR