BEGIN:VCALENDAR
VERSION:2.0
PRODID:-//schaudichan.com - ECPv5.16.4.1//NONSGML v1.0//EN
CALSCALE:GREGORIAN
METHOD:PUBLISH
X-WR-CALNAME:schaudichan.com
X-ORIGINAL-URL:https://schaudichan.com
X-WR-CALDESC:Veranstaltungen für schaudichan.com
BEGIN:VTIMEZONE
TZID:Europe/Helsinki
BEGIN:DAYLIGHT
TZOFFSETFROM:+0200
TZOFFSETTO:+0300
TZNAME:EEST
DTSTART:20190331T010000
END:DAYLIGHT
BEGIN:STANDARD
TZOFFSETFROM:+0300
TZOFFSETTO:+0200
TZNAME:EET
DTSTART:20191027T010000
END:STANDARD
END:VTIMEZONE
BEGIN:VEVENT
DTSTART;TZID=Europe/Helsinki:20190430T190000
DTEND;TZID=Europe/Helsinki:20190501T090000
DTSTAMP:20260421T144007
CREATED:20190210T175756Z
LAST-MODIFIED:20190210T175854Z
UID:19390-1556650800-1556701200@schaudichan.com
SUMMARY:Mayday 2019 @ Westfalenhallen Dortmund
DESCRIPTION:Die „Mutter aller Raves“ geht in das 28. Jahr!\n \nMAYDAY gilt als die „Mutter aller Raves“ und steht seit 1991 für das\, was elektronische Musik ausmacht: Offenheit\, Toleranz\, Lebensfreude und die Liebe zur Musik. \nBereits 1994 traf die Mayday-Hymne „We Are Different“ den Kern von MAYDAY. \nAuch 2019 bleibt sich der größte deutsche Indoor-Rave treu: „When Music Matters“ – und das ist auch gut so. \n35 Acts. 14 Hours. 3 Floors – heißt es am 30.04. in den Dortmunder Westfalenhallen. An den Decks stehen internationale Stars der Szene wie Tiesto\, Boys Noize\, Chris Liebing\, Lost Frequencies\, Markus Schulz\, Pan Pot und Sefa! \n>> Tickets zum Event <<[ssba_hide]
URL:https://schaudichan.com/event/festival-mayday-westfalenhallen-dortmund-30-04-2019/
LOCATION:Westfalenhallen Dortmund\, Strobelallee 45\, Dortmund\, 44139\, Deutschland
CATEGORIES:Festivals
ATTACH;FMTTYPE=image/jpeg:https://schaudichan.com/sda-wp/wp-content/uploads/2019/02/190430_mayday_2019_dortmund_001.jpg
GEO:51.4962035;7.4579981
X-APPLE-STRUCTURED-LOCATION;VALUE=URI;X-ADDRESS=Westfalenhallen Dortmund Strobelallee 45 Dortmund 44139 Deutschland;X-APPLE-RADIUS=500;X-TITLE=Strobelallee 45:geo:7.4579981,51.4962035
END:VEVENT
END:VCALENDAR