BEGIN:VCALENDAR
VERSION:2.0
PRODID:-//schaudichan.com - ECPv5.16.4.1//NONSGML v1.0//EN
CALSCALE:GREGORIAN
METHOD:PUBLISH
X-WR-CALNAME:schaudichan.com
X-ORIGINAL-URL:https://schaudichan.com
X-WR-CALDESC:Veranstaltungen für schaudichan.com
BEGIN:VTIMEZONE
TZID:Europe/Helsinki
BEGIN:DAYLIGHT
TZOFFSETFROM:+0200
TZOFFSETTO:+0300
TZNAME:EEST
DTSTART:20160327T010000
END:DAYLIGHT
BEGIN:STANDARD
TZOFFSETFROM:+0300
TZOFFSETTO:+0200
TZNAME:EET
DTSTART:20161030T010000
END:STANDARD
END:VTIMEZONE
BEGIN:VEVENT
DTSTART;TZID=Europe/Helsinki:20160910T120000
DTEND;TZID=Europe/Helsinki:20160910T220000
DTSTAMP:20260421T130739
CREATED:20160901T181559Z
LAST-MODIFIED:20160901T181559Z
UID:13616-1473508800-1473544800@schaudichan.com
SUMMARY:ov-silence Summer Closing 2016 @ Hafengrün Festival Gelände Hamburg
DESCRIPTION:Open Air „ov-silence Summer Closing“ in Hamburg!\n \nLiebe Tanzgemeinde\, auch in diesem Jahr wird das ov-silence Summer Closing auf dem Hafengrün Festival Gelände stattfinden. Wie gewohnt wird es 2 Floors geben! Den Trance Floor von 12 Uhr bis 22 Uhr und zusätzlich den Techno Floor von 12 Uhr bis ??? Uhr in der Halle. \nIhr dürft auf das Line up gespannt sein\, denn dies geben wir euch wie immer nur beim Summer Closing\, vorab bekannt. \nDie Anreise mit öffentlichen Verkehrsmitteln empfehlen wir euch aufgrund der nicht vorhandenen Parkplätze: ab S-Bahnstation Wilhelmsburg (S3) mit Bus 151 oder 152 bis Neuhöfer Damm oder Nippoldstraße oder mit Metrobus 13 bis Veringstraße Mitte[ssba_hide]
URL:https://schaudichan.com/event/festival-ov-silence-summer-closing-hafengruen-gelaende-hamburg-10-09-2016/
LOCATION:Neuhöfer Strand Hamburg\, Neuhöfer Damm 98\, Hamburg\, 21107\, Deutschland
CATEGORIES:Festivals
ATTACH;FMTTYPE=image/jpeg:https://schaudichan.com/sda-wp/wp-content/uploads/2016/09/160910_ov_silence_summer_closing_2016_hamburg_001.jpg
GEO:53.51508;9.96973
X-APPLE-STRUCTURED-LOCATION;VALUE=URI;X-ADDRESS=Neuhöfer Strand Hamburg Neuhöfer Damm 98 Hamburg 21107 Deutschland;X-APPLE-RADIUS=500;X-TITLE=Neuhöfer Damm 98:geo:9.96973,53.51508
END:VEVENT
END:VCALENDAR