BEGIN:VCALENDAR
VERSION:2.0
PRODID:-//schaudichan.com - ECPv5.16.4.1//NONSGML v1.0//EN
CALSCALE:GREGORIAN
METHOD:PUBLISH
X-WR-CALNAME:schaudichan.com
X-ORIGINAL-URL:https://schaudichan.com
X-WR-CALDESC:Veranstaltungen für schaudichan.com
BEGIN:VTIMEZONE
TZID:Europe/Helsinki
BEGIN:DAYLIGHT
TZOFFSETFROM:+0200
TZOFFSETTO:+0300
TZNAME:EEST
DTSTART:20250330T010000
END:DAYLIGHT
BEGIN:STANDARD
TZOFFSETFROM:+0300
TZOFFSETTO:+0200
TZNAME:EET
DTSTART:20251026T010000
END:STANDARD
END:VTIMEZONE
BEGIN:VEVENT
DTSTART;TZID=Europe/Helsinki:20250215T130000
DTEND;TZID=Europe/Helsinki:20250215T230000
DTSTAMP:20260421T131050
CREATED:20240923T171029Z
LAST-MODIFIED:20240923T171029Z
UID:31562-1739624400-1739660400@schaudichan.com
SUMMARY:Supremacy 2025 @ Westfalenhallen Dortmund
DESCRIPTION:Das größte RAW-Hardstyle-Event der Welt erstmals in Deutschland!\n \n \n„Fans von schneller und harter elektronischer Musik aufgepasst.“ SUPREMACY\, bekannt als das größte RAW-Event der Welt\, das in den vergangenen Jahren immer im niederländischen Den Bosch stattfand\, kommt erstmals nach Deutschland. Am 15. Februar 2025 übernehmen Art of Dance und I-Motion in Koproduktion die Westfalenhalle in Dortmund und präsentieren RAW-Hardstyle in seiner reinsten Form. Hinzu kommt eine unschlagbare Licht-\, LED-\, Laser- und Soundshow\, die von den Fans weltweit verehrt wird. \nSUPREMACY ist ein RAW-Hardstyle-Event für die härteren Klänge der elektronischen Musik\, das von Art of Dance in den Brabanthallen in Den Bosch\, Niederlande\, veranstaltet wird. Die erste SUPREMACY-Ausgabe fand 2014 in der Haupthalle der Brabanthallen mit 15.000 Besucher:innen statt\, wo sie seitdem ausgerichtet wird. Im Jahr 2024 zieht SUPREMACY in den GelreDome in Arnheim um\, um das 10-jährige Jubiläum zu feiern. Mit einer Rekordanzahl von 26.000 Gästen war der Event ausverkauft. Im Gegensatz zu vielen anderen Großveranstaltungen besteht SUPREMACY nur aus einem Floor mit einem Musikstyle. \nSUPREMACY ist so etwas wie die Blaupause für RAW-Hardstyle und setzt seit seiner Entstehung Maßstäbe. Hier betreten nur die renommiertesten Artists der Harder Sounds die Bühne wie D-Sturb\, Killshot\, Sickmode\, Sub Zero Project\, The Purge oder Warface\, begleitet von einer immensen Licht-\, LED-\, Laser- und Soundshow! \n \nFotocredit: Art of Dance \n \n>> Tickets zum Event <<\n 
URL:https://schaudichan.com/event/festival-supremacy-westfalenhallen-dortmund-15-02-2025/
LOCATION:Westfalenhallen Dortmund\, Strobelallee 45\, Dortmund\, 44139\, Deutschland
CATEGORIES:Festivals
ATTACH;FMTTYPE=image/jpeg:https://schaudichan.com/sda-wp/wp-content/uploads/2024/09/250215_supremacy_festival_2025_dortmund_001.jpg
GEO:51.4962035;7.4579981
X-APPLE-STRUCTURED-LOCATION;VALUE=URI;X-ADDRESS=Westfalenhallen Dortmund Strobelallee 45 Dortmund 44139 Deutschland;X-APPLE-RADIUS=500;X-TITLE=Strobelallee 45:geo:7.4579981,51.4962035
END:VEVENT
END:VCALENDAR