BEGIN:VCALENDAR
VERSION:2.0
PRODID:-//schaudichan.com - ECPv5.16.4.1//NONSGML v1.0//EN
CALSCALE:GREGORIAN
METHOD:PUBLISH
X-WR-CALNAME:schaudichan.com
X-ORIGINAL-URL:https://schaudichan.com
X-WR-CALDESC:Veranstaltungen für schaudichan.com
BEGIN:VTIMEZONE
TZID:Europe/Helsinki
BEGIN:DAYLIGHT
TZOFFSETFROM:+0200
TZOFFSETTO:+0300
TZNAME:EEST
DTSTART:20130331T010000
END:DAYLIGHT
BEGIN:STANDARD
TZOFFSETFROM:+0300
TZOFFSETTO:+0200
TZNAME:EET
DTSTART:20131027T010000
END:STANDARD
END:VTIMEZONE
BEGIN:VEVENT
DTSTART;TZID=Europe/Helsinki:20130915T120000
DTEND;TZID=Europe/Helsinki:20130915T120000
DTSTAMP:20260425T144414
CREATED:20130812T102110Z
LAST-MODIFIED:20130812T114137Z
UID:1385-1379246400-1379246400@schaudichan.com
SUMMARY:HOLI - Festival der Farben @ Stadtpark Norderstedt
DESCRIPTION:„Ein Sommer im Farbrausch“ im Stadtpark Norderstedt!\n \nWährend DJs mit geschmeidigen Beats für den passenden Tanzrhythmus sorgen\, nieselt ein Farbregen aus buntem Pulver auf die Tanzenden herunter. Am 15. September 2013 gastiert das HOLI – Festival der Farben\, angelehnt an eine indische Tradition\, den Frühling mit gefärbtem Maismehl zu begrüßen\, im Norderstedter Stadtpark und lädt zum gemeinsamen Kolorieren ein. \nMittelpunkt des Festivals ist das Bad in buntem Farbpulver\, das alle Besucher gleichermaßen in Partystimmung versetzt und verbindet. \nAuf Kommando\, dem Big Toss\, wird das eingefärbte Pulver\, welches aus natürlichem Maismehl gewonnen wird\, in die Höhe geschleudert. \nFontänen von Farbduschen fliegen in die Höhe\, die Veranstaltungswiese verschwindet unter einer bunten Wolke und die Menge nimmt ein Bad in den schönsten Koloriten. \nDas gefärbte Mikrokonfetti\, das sog. Gulal\, ist hautverträglich\, absolut unschädlich\, aus-waschbar und leuchtet in den schönsten Farben. \nDJs wie der Ausnahmekünstler Moguai und die Magdeburger Plattendreher Seba Made\, Marcy Hell und Fat Jerry bringen mit ihrer einschlägigen Elektromusik das bunt gefärbte Publikum zum Tanzen. \nOrientalische Tanzgruppen und Showeinlagen knüpfen an die indische Tradition an und lassen gleichzeitig ein neuartiges\, interkulturelles HOLI mitten in Europa einkehren. Ein Fest voller Sounds und Farben. \nTickets für das Festival der Farben erhalten Interessierte an allen bekannten Vorverkaufsstellen. \nIm Ticketpreis ist ein Päckchen des zertifizierten Farbpulvers enthalten. Das gefärbte Maismehl ist vor Ort in unterschiedlichen Farben erhältlich. Das Mitbringen von eigenem Farbpulver ist nicht gestattet.>> Tickets zum Event <<[ssba_hide]
URL:https://schaudichan.com/event/grossevent-holi-festival-der-farben-stadtpark-norderstedt/
LOCATION:Stadtpark ehem. Landesgartenschau\, Am Stadtpark\, Norderstedt\, 22844\, Deutschland
CATEGORIES:Festivals
ATTACH;FMTTYPE=image/jpeg:https://schaudichan.com/sda-wp/wp-content/uploads/2013/08/130915_holi_festival_der_farben_0.jpg
GEO:53.7174027;10.0118832
X-APPLE-STRUCTURED-LOCATION;VALUE=URI;X-ADDRESS=Stadtpark ehem. Landesgartenschau Am Stadtpark Norderstedt 22844 Deutschland;X-APPLE-RADIUS=500;X-TITLE=Am Stadtpark:geo:10.0118832,53.7174027
END:VEVENT
END:VCALENDAR