BEGIN:VCALENDAR
VERSION:2.0
PRODID:-//schaudichan.com - ECPv5.16.4.1//NONSGML v1.0//EN
CALSCALE:GREGORIAN
METHOD:PUBLISH
X-WR-CALNAME:schaudichan.com
X-ORIGINAL-URL:https://schaudichan.com
X-WR-CALDESC:Veranstaltungen für schaudichan.com
BEGIN:VTIMEZONE
TZID:Europe/Helsinki
BEGIN:DAYLIGHT
TZOFFSETFROM:+0200
TZOFFSETTO:+0300
TZNAME:EEST
DTSTART:20170326T010000
END:DAYLIGHT
BEGIN:STANDARD
TZOFFSETFROM:+0300
TZOFFSETTO:+0200
TZNAME:EET
DTSTART:20171029T010000
END:STANDARD
END:VTIMEZONE
BEGIN:VEVENT
DTSTART;TZID=Europe/Helsinki:20170909T190000
DTEND;TZID=Europe/Helsinki:20170909T190000
DTSTAMP:20260425T195946
CREATED:20170110T155512Z
LAST-MODIFIED:20171028T122355Z
UID:14790-1504983600-1504983600@schaudichan.com
SUMMARY:Pyro Games 2017 @ Stadtpark Norderstedt
DESCRIPTION:„3\, 2\, 1 – Feuer frei!“ Das Feuerwerksfestival in Norderstedt\n \nAm 09. September 2017 lassen atemberaubende Feuerwerke den Abendhimmel über Norderstedt in schillerndem Licht erstrahlen. Das Publikum erlebt ein gigantisches Duell der Feuerwerker\, wenn Deutschlands Feuerwerksprofis mit atemberaubenden Spezialeffekten den Pyro Games ihre eigene Handschriften verleihen. Der Kampf um die goldene Trophäe der Feuerwerkskunst geht im Satdtpark in die nächste Runde. \nDie Pyro Games eine Faszination der Sinne. Neben farbenprächtigen Feuerwerken\, wird die  Liveband Rose Bogey’s wieder die Showbühne rocken und das Publikum mitreißen.  Einmalige Artistik steht ebenfalls im Mittelpunkt des Abends\, wenn das Duo von 360 GradEvent mit professionellen Choreografien\, Überraschungseffekten und genau abgestimmte Feueranimationen begeistert. \nEin weiteres Highlight ist die atemberaubende Licht- und Lasershow des Multimedia-Laser-Feuerkünstlers Jürgen Matkowitz\, dem Inhaber von Apollo – Art of Laser and Fire. Die Zuschauer werden eine eigens auf die Pyro Games zugeschnittene und musiksynchrone \nLasershow erleben\, die den Spielort in ein optisches sowie musikalisches Szenario verwandelt. Die Magie von Laserlicht\, Feuerzauber und Musik verschmelzen in Harmonie zu einem sehr wirkungsvollen Kunstwerk.  \n>> Tickets zum Event <<[ssba_hide]
URL:https://schaudichan.com/event/grossevent-pyro-games-stadtpark-norderstedt-09-09-2017/
LOCATION:Stadtpark ehem. Landesgartenschau\, Am Stadtpark\, Norderstedt\, 22844\, Deutschland
CATEGORIES:Großevents
ATTACH;FMTTYPE=image/jpeg:https://schaudichan.com/sda-wp/wp-content/uploads/2014/09/140913_pyro_games_norderstedt_1.jpg
GEO:53.7174027;10.0118832
X-APPLE-STRUCTURED-LOCATION;VALUE=URI;X-ADDRESS=Stadtpark ehem. Landesgartenschau Am Stadtpark Norderstedt 22844 Deutschland;X-APPLE-RADIUS=500;X-TITLE=Am Stadtpark:geo:10.0118832,53.7174027
END:VEVENT
END:VCALENDAR