BEGIN:VCALENDAR
VERSION:2.0
PRODID:-//schaudichan.com - ECPv5.16.4.1//NONSGML v1.0//EN
CALSCALE:GREGORIAN
METHOD:PUBLISH
X-WR-CALNAME:schaudichan.com
X-ORIGINAL-URL:https://schaudichan.com
X-WR-CALDESC:Veranstaltungen für schaudichan.com
BEGIN:VTIMEZONE
TZID:Europe/Helsinki
BEGIN:DAYLIGHT
TZOFFSETFROM:+0200
TZOFFSETTO:+0300
TZNAME:EEST
DTSTART:20180325T010000
END:DAYLIGHT
BEGIN:STANDARD
TZOFFSETFROM:+0300
TZOFFSETTO:+0200
TZNAME:EET
DTSTART:20181028T010000
END:STANDARD
END:VTIMEZONE
BEGIN:VEVENT
DTSTART;TZID=Europe/Helsinki:20180430T210000
DTEND;TZID=Europe/Helsinki:20180430T210000
DTSTAMP:20260426T043305
CREATED:20180423T153435Z
LAST-MODIFIED:20180423T153556Z
UID:18052-1525122000-1525122000@schaudichan.com
SUMMARY:Hamburg tanzt in den Mai @ Hühnerposten
DESCRIPTION:6 Top-DJs auf 4 Floors und Aussenbereich!\n \nSichert Euch TICKETs für Hamburgs größte Tanz in den Mai Party und erlebt viele Specials: \n– 6 TOP DJs & LIVE Acts\n– Mega Party auf 4 Floors + Aussenbereich\n– CYBER BABES\n– Star Act: Echo Gewinner „JAY FROG“\n– Snack Area\n– Special Acts: „DISCOFAMILY“ & „eiKe maKatsch“\n– Special Tanz in den Mai Deko\n– kostenlose Tombola (über 200 Preise!)\n– Animationsteam inkl. Give Aways\n– Special Lights & Visuals\n– Special Guests\n– Getränkespecials\n– Smoking Area u.v.m. \nHamburg tanzt im Hühnerposten in den Mai\, tanzt also mit und erlebt einen unvergesslichen Abend! \nDie Mega Party auf 4 Floors und dem besten Sound aus internationalen Charts\, Clubhits\, Dance Classics\, R’N’B\, House- & Electro Sound\, 70er\, 80er und 90er\, wo für jeden etwas dabei sein wird! \n>> Tickets zum Event <<[ssba_hide]
URL:https://schaudichan.com/event/hamburg-tanzt-in-den-mai-huehnerposten-30-04-2018/
LOCATION:Hühnerposten Hamburg\, Hühnerposten 1a\, Hamburg\, 20097\, Deutschland
CATEGORIES:Party
ATTACH;FMTTYPE=image/jpeg:https://schaudichan.com/sda-wp/wp-content/uploads/2018/04/180430_hamburg_tanzt_in_den_mai_001.jpg
GEO:53.54964;10.0078102
X-APPLE-STRUCTURED-LOCATION;VALUE=URI;X-ADDRESS=Hühnerposten Hamburg Hühnerposten 1a Hamburg 20097 Deutschland;X-APPLE-RADIUS=500;X-TITLE=Hühnerposten 1a:geo:10.0078102,53.54964
END:VEVENT
END:VCALENDAR