BEGIN:VCALENDAR
VERSION:2.0
PRODID:-//schaudichan.com - ECPv5.16.4.1//NONSGML v1.0//EN
CALSCALE:GREGORIAN
METHOD:PUBLISH
X-WR-CALNAME:schaudichan.com
X-ORIGINAL-URL:https://schaudichan.com
X-WR-CALDESC:Veranstaltungen für schaudichan.com
BEGIN:VTIMEZONE
TZID:Europe/Helsinki
BEGIN:DAYLIGHT
TZOFFSETFROM:+0200
TZOFFSETTO:+0300
TZNAME:EEST
DTSTART:20170326T010000
END:DAYLIGHT
BEGIN:STANDARD
TZOFFSETFROM:+0300
TZOFFSETTO:+0200
TZNAME:EET
DTSTART:20171029T010000
END:STANDARD
END:VTIMEZONE
BEGIN:VEVENT
DTSTART;TZID=Europe/Helsinki:20170217T200000
DTEND;TZID=Europe/Helsinki:20170217T200000
DTSTAMP:20260421T155342
CREATED:20170130T201956Z
LAST-MODIFIED:20170130T204941Z
UID:14975-1487361600-1487361600@schaudichan.com
SUMMARY:Affenklang goes Uebel & Gefährlich Hamburg
DESCRIPTION:Torch & Killa Instinct feat. DJ Supreme im Uebel & Gefährlich!\n \nAffenklang goes Uebel & Gefährlich (Ballsaal) \nTORCH (Advanced Chemistry/Heidelberg)\nfeat 360° Crew (Heidelberg)\nSOUNDTRAX (360°)\nDJ MIKILEAKS (360°)\nSupport by Killa Instinct (London /UK) feat. DJ Supreme \nAb 23 Uhr „AFFENKLANG AFTERSHOW PARTY“ im Uebel & Gefährlich (Turmzimmer) \nDJ STYLEWARZ (No Remorze/Hamburg)\nDj SUPREME (HiJack/UK)\nDJ Fu + Kuma (Drumbule/Hamburg) \n>> Tickets zum Event <<[ssba_hide]
URL:https://schaudichan.com/event/konzert-affenklang-torch-goes-uebel-und-gefaehrlich-hamburg-17-02-2017/
LOCATION:Uebel & Gefährlich\, Feldstraße 66\, Hamburg\, 20359\, Deutschland
CATEGORIES:Konzerte
ATTACH;FMTTYPE=image/jpeg:https://schaudichan.com/sda-wp/wp-content/uploads/2013/08/uebel_und_gefaehrlich_hamburg.jpg
GEO:53.55655;9.96968
X-APPLE-STRUCTURED-LOCATION;VALUE=URI;X-ADDRESS=Uebel & Gefährlich Feldstraße 66 Hamburg 20359 Deutschland;X-APPLE-RADIUS=500;X-TITLE=Feldstraße 66:geo:9.96968,53.55655
END:VEVENT
END:VCALENDAR