BEGIN:VCALENDAR
VERSION:2.0
PRODID:-//schaudichan.com - ECPv5.16.4.1//NONSGML v1.0//EN
CALSCALE:GREGORIAN
METHOD:PUBLISH
X-WR-CALNAME:schaudichan.com
X-ORIGINAL-URL:https://schaudichan.com
X-WR-CALDESC:Veranstaltungen für schaudichan.com
BEGIN:VTIMEZONE
TZID:Europe/Helsinki
BEGIN:DAYLIGHT
TZOFFSETFROM:+0200
TZOFFSETTO:+0300
TZNAME:EEST
DTSTART:20200329T010000
END:DAYLIGHT
BEGIN:STANDARD
TZOFFSETFROM:+0300
TZOFFSETTO:+0200
TZNAME:EET
DTSTART:20201025T010000
END:STANDARD
END:VTIMEZONE
BEGIN:VEVENT
DTSTART;TZID=Europe/Helsinki:20200814T184500
DTEND;TZID=Europe/Helsinki:20200814T184500
DTSTAMP:20260421T210546
CREATED:20200202T163603Z
LAST-MODIFIED:20200202T163603Z
UID:22650-1597430700-1597430700@schaudichan.com
SUMMARY:AnnenMayKantereit & Freunde @ Trabrennbahn Hamburg Bahrenfeld
DESCRIPTION:AnnenMayKantereit & Freunde – Open Air 2020 in Hamburg!\n \nNach ihren restlos ausverkauften Live-Terminen 2019 mit mehr als 250.000 Besuchern im Zuge ihres Albums „Schlagschatten“\, kündigt die Kölner Band AnnenMayKantereit für 2020 nicht nur eine Tour durch die großen Hallen Deutschlands\, Österreichs und der Schweiz an\, sondern auch neue Termine für ihre inzwischen traditionellen AnnenMayKantereit & Freunde Open Airs. \nAm 14. August 2020 kommen AnnenMayKantereit nach Hamburg und spielen im Rahmen des Hamburger Kultursommers eine große Open Air-Show auf der Trabrennbahn Bahrenfeld! \nFotocredit: Martin Lamberty \nEinlass: 17 Uhr / Beginn: 18:45 Uhr \n>> Tickets zum Event <<
URL:https://schaudichan.com/event/konzert-annenmaykantereit-und-freunde-trabrennbahn-hamburg-bahrenfeld-14-08-2020/
LOCATION:Trabrennbahn Bahrenfeld\, Luruper Chaussee 30\, Hamburg\, 22761\, Deutschland
CATEGORIES:Konzerte
ATTACH;FMTTYPE=image/jpeg:https://schaudichan.com/sda-wp/wp-content/uploads/2018/08/190314_annenmaykantereit_001.jpg
GEO:53.57829;9.89291
X-APPLE-STRUCTURED-LOCATION;VALUE=URI;X-ADDRESS=Trabrennbahn Bahrenfeld Luruper Chaussee 30 Hamburg 22761 Deutschland;X-APPLE-RADIUS=500;X-TITLE=Luruper Chaussee 30:geo:9.89291,53.57829
END:VEVENT
END:VCALENDAR