BEGIN:VCALENDAR
VERSION:2.0
PRODID:-//schaudichan.com - ECPv5.16.4.1//NONSGML v1.0//EN
CALSCALE:GREGORIAN
METHOD:PUBLISH
X-WR-CALNAME:schaudichan.com
X-ORIGINAL-URL:https://schaudichan.com
X-WR-CALDESC:Veranstaltungen für schaudichan.com
BEGIN:VTIMEZONE
TZID:Europe/Helsinki
BEGIN:DAYLIGHT
TZOFFSETFROM:+0200
TZOFFSETTO:+0300
TZNAME:EEST
DTSTART:20220327T010000
END:DAYLIGHT
BEGIN:STANDARD
TZOFFSETFROM:+0300
TZOFFSETTO:+0200
TZNAME:EET
DTSTART:20221030T010000
END:STANDARD
END:VTIMEZONE
BEGIN:VEVENT
DTSTART;TZID=Europe/Helsinki:20221130T190000
DTEND;TZID=Europe/Helsinki:20221130T190000
DTSTAMP:20260423T011423
CREATED:20221108T015301Z
LAST-MODIFIED:20221108T015301Z
UID:26211-1669834800-1669834800@schaudichan.com
SUMMARY:Billy Talent - Crisis of Faith Tour @ Sporthalle Hamburg
DESCRIPTION:Billy Talent – „Crisis of Faith Tour“ in Hamburg!\n \nWichtiger Hinweis: Bitte beachtet beim Ticketkauf\, dass es für jede Veranstaltung bestimmte COVID-19-Richtlinien gibt. Es ist nicht ausgeschlossen\, dass sich diese je nach gültiger Coronavirus-Landesverordnung noch kurzfristig ändern könnten. Informiert Euch bitte vorher beim Veranstalter oder der Ticketvorverkaufsstelle\, welche Einlassregeln gerade gelten!\n\nNach sechs langen Jahren kommen Billy Talent endlich wieder für 12 Konzerte nach Deutschland zurück. Im Gepäck haben sie ihr aktuelles Nummer 1 Album „Crisis of Faith“\, welches sie Anfang des Jahres veröffentlichten! \nFotocredit: Dustin Rabin \n>> Tickets zum Event <<
URL:https://schaudichan.com/event/konzert-billy-talent-crisis-of-faith-tour-sporthalle-hamburg-30-11-2022/
LOCATION:Sporthalle Hamburg\, Krochmannstraße 55\, Hamburg\, 22297\, Deutschland
CATEGORIES:Konzerte
ATTACH;FMTTYPE=image/jpeg:https://schaudichan.com/sda-wp/wp-content/uploads/2022/11/221130_billy_talent_001.jpg
GEO:53.6018094;10.003114
X-APPLE-STRUCTURED-LOCATION;VALUE=URI;X-ADDRESS=Sporthalle Hamburg Krochmannstraße 55 Hamburg 22297 Deutschland;X-APPLE-RADIUS=500;X-TITLE=Krochmannstraße 55:geo:10.003114,53.6018094
END:VEVENT
END:VCALENDAR