BEGIN:VCALENDAR
VERSION:2.0
PRODID:-//schaudichan.com - ECPv5.16.4.1//NONSGML v1.0//EN
CALSCALE:GREGORIAN
METHOD:PUBLISH
X-WR-CALNAME:schaudichan.com
X-ORIGINAL-URL:https://schaudichan.com
X-WR-CALDESC:Veranstaltungen für schaudichan.com
BEGIN:VTIMEZONE
TZID:Europe/Helsinki
BEGIN:DAYLIGHT
TZOFFSETFROM:+0200
TZOFFSETTO:+0300
TZNAME:EEST
DTSTART:20170326T010000
END:DAYLIGHT
BEGIN:STANDARD
TZOFFSETFROM:+0300
TZOFFSETTO:+0200
TZNAME:EET
DTSTART:20171029T010000
END:STANDARD
END:VTIMEZONE
BEGIN:VEVENT
DTSTART;TZID=Europe/Helsinki:20170826T180000
DTEND;TZID=Europe/Helsinki:20170826T180000
DTSTAMP:20260422T203643
CREATED:20161212T160150Z
LAST-MODIFIED:20161212T160301Z
UID:14536-1503770400-1503770400@schaudichan.com
SUMMARY:Bosse - Engtanz Open Air @ Trabrennbahn Hamburg
DESCRIPTION:Open Air-Konzert auf der Trabrennbahn Bahrenfeld!\n \nAm Samstag\, den 26. August 2017\, wird BOSSE im Rahmen des jährlich stattfindenden Hamburger Kultursommers auf der Trabrennbahn Bahrenfeld erstmalig in seiner Wahlheimat ein eigenes Open Air-Konzert spielen. \nAlle BOSSE-Fans können sich nicht nur über all seine Hits und Songs des aktuellen Albums „Engtanz“ freuen – sondern auch darauf\, den Künstler bei sommerlichen Temperaturen unter freiem Himmel live zu erleben! \nEinlass: 16 Uhr / Beginn: 18 Uhr \n>> Tickets zum Event <<[ssba_hide]
URL:https://schaudichan.com/event/konzert-bosse-engtanz-tour-trabrennbahn-hamburg-bahrenfeld-26-08-2017/
LOCATION:Trabrennbahn Bahrenfeld\, Luruper Chaussee 30\, Hamburg\, 22761\, Deutschland
CATEGORIES:Konzerte
ATTACH;FMTTYPE=image/jpeg:https://schaudichan.com/sda-wp/wp-content/uploads/2016/12/170826_bosse_001.jpg
GEO:53.57829;9.89291
X-APPLE-STRUCTURED-LOCATION;VALUE=URI;X-ADDRESS=Trabrennbahn Bahrenfeld Luruper Chaussee 30 Hamburg 22761 Deutschland;X-APPLE-RADIUS=500;X-TITLE=Luruper Chaussee 30:geo:9.89291,53.57829
END:VEVENT
END:VCALENDAR