BEGIN:VCALENDAR
VERSION:2.0
PRODID:-//schaudichan.com - ECPv5.16.4.1//NONSGML v1.0//EN
CALSCALE:GREGORIAN
METHOD:PUBLISH
X-WR-CALNAME:schaudichan.com
X-ORIGINAL-URL:https://schaudichan.com
X-WR-CALDESC:Veranstaltungen für schaudichan.com
BEGIN:VTIMEZONE
TZID:Europe/Helsinki
BEGIN:DAYLIGHT
TZOFFSETFROM:+0200
TZOFFSETTO:+0300
TZNAME:EEST
DTSTART:20220327T010000
END:DAYLIGHT
BEGIN:STANDARD
TZOFFSETFROM:+0300
TZOFFSETTO:+0200
TZNAME:EET
DTSTART:20221030T010000
END:STANDARD
END:VTIMEZONE
BEGIN:VEVENT
DTSTART;TZID=Europe/Helsinki:20220721T190000
DTEND;TZID=Europe/Helsinki:20220721T190000
DTSTAMP:20260421T125446
CREATED:20220505T222310Z
LAST-MODIFIED:20220505T222310Z
UID:24590-1658430000-1658430000@schaudichan.com
SUMMARY:Jan Delay & Disko No.1 @ Vor dem Volksparkstadion Hamburg
DESCRIPTION:Jan Delay & Disko No.1 – „Earth\, Wind & Feiern“ Open Air in Hamburg!\n \nWichtiger Hinweis: Bitte beachtet beim Ticketkauf\, dass es für jede Veranstaltung bestimmte COVID-19-Richtlinien gibt. Es ist nicht ausgeschlossen\, dass sich diese je nach gültiger Coronavirus-Landesverordnung noch kurzfristig ändern könnten. Informiert Euch bitte vorher beim Veranstalter oder der Ticketvorverkaufsstelle\, welche Einlassregeln gerade gelten!\n\nEs gibt in der deutschen Poplandschaft nur wenige Musiker\, die eine ähnlich überraschungsreiche Karriere vorweisen können wie Jan Delay. Jan Delay schöpft aus fünf Jahrzehnten (schwarzer) Popgeschichte\, aber spielt just im Hier und Jetzt. \nIn ihm stecken Daft Punk und Drake\, Burna Boy und Stefflon Don\, Sly & Robbie und Meek Mill. Jan Delay und seine grandiose Band spielen mit Disco\, Trap\, Funk\, Afrobeats\, Ska\, Arenatechno\, Reggea\, Rock\, Soul … wie es nur Freigeister wie Jan Delay & Disko No.1 tun können. \nEinlass: 17 Uhr / Beginn: 19 Uhr \n>> Tickets zum Event <<
URL:https://schaudichan.com/event/konzert-jan-delay-und-disko-no-1-vor-dem-volksparkstadion-hamburg-21-07-2022/
LOCATION:Volksparkstadion Hamburg\, Sylvesterallee 7\, Hamburg\, 22525\, Deutschland
CATEGORIES:Konzerte
ATTACH;FMTTYPE=image/jpeg:https://schaudichan.com/sda-wp/wp-content/uploads/2022/05/220721_jan_delay_001.jpg
GEO:53.5871028;9.8996012
X-APPLE-STRUCTURED-LOCATION;VALUE=URI;X-ADDRESS=Volksparkstadion Hamburg Sylvesterallee 7 Hamburg 22525 Deutschland;X-APPLE-RADIUS=500;X-TITLE=Sylvesterallee 7:geo:9.8996012,53.5871028
END:VEVENT
END:VCALENDAR