BEGIN:VCALENDAR
VERSION:2.0
PRODID:-//schaudichan.com - ECPv5.16.4.1//NONSGML v1.0//EN
CALSCALE:GREGORIAN
METHOD:PUBLISH
X-WR-CALNAME:schaudichan.com
X-ORIGINAL-URL:https://schaudichan.com
X-WR-CALDESC:Veranstaltungen für schaudichan.com
BEGIN:VTIMEZONE
TZID:Europe/Helsinki
BEGIN:DAYLIGHT
TZOFFSETFROM:+0200
TZOFFSETTO:+0300
TZNAME:EEST
DTSTART:20140330T010000
END:DAYLIGHT
BEGIN:STANDARD
TZOFFSETFROM:+0300
TZOFFSETTO:+0200
TZNAME:EET
DTSTART:20141026T010000
END:STANDARD
END:VTIMEZONE
BEGIN:VEVENT
DTSTART;TZID=Europe/Helsinki:20141027T193000
DTEND;TZID=Europe/Helsinki:20141027T193000
DTSTAMP:20260421T113140
CREATED:20140717T211547Z
LAST-MODIFIED:20141026T101829Z
UID:6037-1414438200-1414438200@schaudichan.com
SUMMARY:Kylie Minogue @ o2 World Berlin (Abgesagt!)
DESCRIPTION:Abgesagt! Kiss Me Once Tour 2014\n \nACHTUNG: DAS KONZERT WURDE ABGESAGT! (Update: 18.10.2014) \nKylie Minogue hat die Musikszene von Anfang an gehörig durcheinandergewirbelt und ist zum internationalen Star aufgestiegen. \nOb als Sängerin\, Mode-Ikone\, Designerin oder Schauspielerin – überall hat die australische Künstlerin phänomenale Erfolge gefeiert. Mit ihrem neuesten Album „Kiss Me Once“ und ihren größten Hits kommt Kylie Minogue nach Deutschland. Am 27. Oktober bietet sich den Fans die Chance\, Kylie mit ihrer spektakulären Show in der o2 World Berlin zu erleben. \nSchon 1987 veröffentlichte sie ihre erste Nr.1-Single „The Locomotion“. Heute zählt Kylie Minogue mit weltweit über 70 Millionen verkauften Tonträgern zu den erfolgreichsten Interpretinnen der Popmusik. Mitte März erschien ihr 12. Studioalbum „Kiss Me Once“\, das erneut die Tanzflächen erobert. \n \n>> Tickets zum Event <<[ssba_hide]
URL:https://schaudichan.com/event/konzert-kylie-minogue-o2-world-berlin-27-10-2014/
LOCATION:o2 World Berlin\, o2 Platz 1\, Berlin\, 10243\, Deutschland
CATEGORIES:Konzerte
ATTACH;FMTTYPE=image/jpeg:https://schaudichan.com/sda-wp/wp-content/uploads/2014/07/141028_kylie_minogue_001.jpg
GEO:52.5057487;13.4417395
X-APPLE-STRUCTURED-LOCATION;VALUE=URI;X-ADDRESS=o2 World Berlin o2 Platz 1 Berlin 10243 Deutschland;X-APPLE-RADIUS=500;X-TITLE=o2 Platz 1:geo:13.4417395,52.5057487
END:VEVENT
END:VCALENDAR