BEGIN:VCALENDAR
VERSION:2.0
PRODID:-//schaudichan.com - ECPv5.16.4.1//NONSGML v1.0//EN
CALSCALE:GREGORIAN
METHOD:PUBLISH
X-WR-CALNAME:schaudichan.com
X-ORIGINAL-URL:https://schaudichan.com
X-WR-CALDESC:Veranstaltungen für schaudichan.com
BEGIN:VTIMEZONE
TZID:Europe/Helsinki
BEGIN:DAYLIGHT
TZOFFSETFROM:+0200
TZOFFSETTO:+0300
TZNAME:EEST
DTSTART:20190331T010000
END:DAYLIGHT
BEGIN:STANDARD
TZOFFSETFROM:+0300
TZOFFSETTO:+0200
TZNAME:EET
DTSTART:20191027T010000
END:STANDARD
END:VTIMEZONE
BEGIN:VEVENT
DTSTART;TZID=Europe/Helsinki:20190809T190000
DTEND;TZID=Europe/Helsinki:20190809T190000
DTSTAMP:20260420T135424
CREATED:20181013T151457Z
LAST-MODIFIED:20181013T151457Z
UID:18956-1565377200-1565377200@schaudichan.com
SUMMARY:Marteria & Casper @ Trabrennbahn Hamburg Bahrenfeld
DESCRIPTION:Marteria & Casper – „Champion Sound Open Air“ in Hamburg!\n \nFast hatte man ja schon nicht mehr daran geglaubt – die Idee für ein gemeinsames Album von Marteria & Casper stand ja durchaus schon etwas länger im Raum. Nach gemeinsamen Songs auf Samplern und Soloalben wurde daraus erst ein Aprilscherz der Rap-Journaille\, dann eine Art Treppenwitz innerhalb der Szene und schließlich gar nichts mehr – bis jetzt. \nDenn neun Jahre nach ihrem ersten gemeinsamen Song „Rock’n’Roll“ veröffentlichten Marteria & Casper endlich das lang erwartete Collabo-Album „1982“. Im Sommer 2019 werden Marteria & Casper dann auch ihre enormen Live-Energien bündeln und deutschlandweit fünf „Champion Sound Open Airs 2019“ spielen! \nFotocredit: Christian Hedel \nEinlass: 17 Uhr / Beginn: 19 Uhr \n>> Tickets zum Event <<[ssba_hide]
URL:https://schaudichan.com/event/konzert-marteria-und-casper-trabrennbahn-hamburg-bahrenfeld-09-08-2019/
LOCATION:Trabrennbahn Bahrenfeld\, Luruper Chaussee 30\, Hamburg\, 22761\, Deutschland
CATEGORIES:Konzerte
ATTACH;FMTTYPE=image/jpeg:https://schaudichan.com/sda-wp/wp-content/uploads/2018/10/190809_marteria_casper_001.jpg
GEO:53.57829;9.89291
X-APPLE-STRUCTURED-LOCATION;VALUE=URI;X-ADDRESS=Trabrennbahn Bahrenfeld Luruper Chaussee 30 Hamburg 22761 Deutschland;X-APPLE-RADIUS=500;X-TITLE=Luruper Chaussee 30:geo:9.89291,53.57829
END:VEVENT
END:VCALENDAR