BEGIN:VCALENDAR
VERSION:2.0
PRODID:-//schaudichan.com - ECPv5.16.4.1//NONSGML v1.0//EN
CALSCALE:GREGORIAN
METHOD:PUBLISH
X-WR-CALNAME:schaudichan.com
X-ORIGINAL-URL:https://schaudichan.com
X-WR-CALDESC:Veranstaltungen für schaudichan.com
BEGIN:VTIMEZONE
TZID:Europe/Helsinki
BEGIN:DAYLIGHT
TZOFFSETFROM:+0200
TZOFFSETTO:+0300
TZNAME:EEST
DTSTART:20170326T010000
END:DAYLIGHT
BEGIN:STANDARD
TZOFFSETFROM:+0300
TZOFFSETTO:+0200
TZNAME:EET
DTSTART:20171029T010000
END:STANDARD
END:VTIMEZONE
BEGIN:VEVENT
DTSTART;TZID=Europe/Helsinki:20170203T193000
DTEND;TZID=Europe/Helsinki:20170203T193000
DTSTAMP:20260426T072603
CREATED:20170109T134631Z
LAST-MODIFIED:20170109T134631Z
UID:14787-1486150200-1486150200@schaudichan.com
SUMMARY:RAP4GOOD @ Barclaycard Arena Hamburg
DESCRIPTION:Das Charity-Konzert mit Kool Savas\, Azad\, Samy Deluxe!\n \nKool Savas gibt sich wieder die Ehre und lädt gemeinsam mit Presenting Partner NEW YORKER und vielen neuen RAP-resentern am 3. Februar 2017 zum zweiten großen RAP4GOOD Charity-Indoor-Festival in die Barclaycard Arena nach Hamburg. \n2017 tut RAP4GOOD weiter Gutes. Diesmal zieht es den R4G-Initiator und Platinrapper Kool Savas in die Hip Hop Hochburg Hamburg. Das erste und einzige Charity-Indoor-Festival wird dort den Fans wieder 4 Stunden RAP in seiner reinsten Form präsentieren um damit die beiden Projekte „Urban Culture“ und „DeluxeKidz e.V.“ (Initiator Samy Deluxe) zu unterstützen. Beide Projekte haben es sich zur Aufgabe gemacht\, Kids eine Freizeitalternative zu Computerspielen\, Playstation und exzessiver Handynutzung zu bieten. \nSie werden an Musik\, Sprache\, Tanz\, darstellende und bildende Kunst herangeführt. Ihre Interessen an kreativen und Teambildungsprozessen werden geweckt und über diese Förderung ihrer Fähigkeiten ihr Selbstbewusstsein gestärkt. Helft uns mit Euerm Konzertbesuch\, diese Projekte für die nächsten Jahre zu sichern! \n>> Tickets zum Event <<[ssba_hide]
URL:https://schaudichan.com/event/konzert-rap4good-barclaycard-arena-hamburg-03-02-2017/
LOCATION:Barclaycard Arena Hamburg\, Sylvesterallee 10\, Hamburg\, 22525\, Deutschland
CATEGORIES:Konzerte
ATTACH;FMTTYPE=image/jpeg:https://schaudichan.com/sda-wp/wp-content/uploads/2017/01/170203_rap4good_barclaycard_arena_hamburg_001.jpg
GEO:53.5898403;9.8987679
X-APPLE-STRUCTURED-LOCATION;VALUE=URI;X-ADDRESS=Barclaycard Arena Hamburg Sylvesterallee 10 Hamburg 22525 Deutschland;X-APPLE-RADIUS=500;X-TITLE=Sylvesterallee 10:geo:9.8987679,53.5898403
END:VEVENT
END:VCALENDAR