BEGIN:VCALENDAR
VERSION:2.0
PRODID:-//schaudichan.com - ECPv5.16.4.1//NONSGML v1.0//EN
CALSCALE:GREGORIAN
METHOD:PUBLISH
X-WR-CALNAME:schaudichan.com
X-ORIGINAL-URL:https://schaudichan.com
X-WR-CALDESC:Veranstaltungen für schaudichan.com
BEGIN:VTIMEZONE
TZID:Europe/Helsinki
BEGIN:DAYLIGHT
TZOFFSETFROM:+0200
TZOFFSETTO:+0300
TZNAME:EEST
DTSTART:20200329T010000
END:DAYLIGHT
BEGIN:STANDARD
TZOFFSETFROM:+0300
TZOFFSETTO:+0200
TZNAME:EET
DTSTART:20201025T010000
END:STANDARD
END:VTIMEZONE
BEGIN:VEVENT
DTSTART;TZID=Europe/Helsinki:20200124T200000
DTEND;TZID=Europe/Helsinki:20200124T200000
DTSTAMP:20260424T140051
CREATED:20190211T141827Z
LAST-MODIFIED:20190211T141827Z
UID:19401-1579896000-1579896000@schaudichan.com
SUMMARY:Silbermond - Arena Tour 2020 @ TUI Arena Hannover
DESCRIPTION:Silbermond kommt auf große Arena Tour nach Hannover!\n \nStefanie Kloß\, Johannes und Thomas Stolle und Andreas Nowak werden im Januar 2020 auf ihre eigentliche Heimat\, die Bühne\, zurückkehren – um mit den Silbermond-Fans im Rahmen von 15 Konzerten wieder auf Tuchfühlung zu gehen. \nNach rund anderthalb Jahrzehnten im Musikgeschäft\, nach mehr als sechs Millionen verkauften Tonträgern\, Hunderten von ausverkauften Konzerten\, Dutzenden von Gold- und Platinauszeichnungen\, nach Hymnen wie „Durch die Nacht“\, „Symphonie“\, „Das Beste“\, „Irgendwas bleibt“\, „Leichtes Gepäck“ und „B 96“\, nach so vielen Jahren on the road und im Studio – was kann das Publikum\, was kann die Band selbst sich da noch wünschen? Vielleicht einfach\, dass die Reise weitergeht! \nFotocredit: Daniel Lwowski \n>> Tickets zum Event <<[ssba_hide]
URL:https://schaudichan.com/event/konzert-silbermond-arena-tour-tui-arena-hannover-24-01-2020/
LOCATION:TUI Arena Hannover\, Expo Plaza 7\, Hannover\, 30539\, Deutschland
CATEGORIES:Konzerte
ATTACH;FMTTYPE=image/jpeg:https://schaudichan.com/sda-wp/wp-content/uploads/2019/02/200122_silbermond_001.jpg
GEO:52.32302;9.81686
X-APPLE-STRUCTURED-LOCATION;VALUE=URI;X-ADDRESS=TUI Arena Hannover Expo Plaza 7 Hannover 30539 Deutschland;X-APPLE-RADIUS=500;X-TITLE=Expo Plaza 7:geo:9.81686,52.32302
END:VEVENT
END:VCALENDAR