BEGIN:VCALENDAR
VERSION:2.0
PRODID:-//schaudichan.com - ECPv5.16.4.1//NONSGML v1.0//EN
CALSCALE:GREGORIAN
METHOD:PUBLISH
X-WR-CALNAME:schaudichan.com
X-ORIGINAL-URL:https://schaudichan.com
X-WR-CALDESC:Veranstaltungen für schaudichan.com
BEGIN:VTIMEZONE
TZID:Europe/Helsinki
BEGIN:DAYLIGHT
TZOFFSETFROM:+0200
TZOFFSETTO:+0300
TZNAME:EEST
DTSTART:20170326T010000
END:DAYLIGHT
BEGIN:STANDARD
TZOFFSETFROM:+0300
TZOFFSETTO:+0200
TZNAME:EET
DTSTART:20171029T010000
END:STANDARD
END:VTIMEZONE
BEGIN:VEVENT
DTSTART;TZID=Europe/Helsinki:20171110T200000
DTEND;TZID=Europe/Helsinki:20171110T200000
DTSTAMP:20260423T174649
CREATED:20170527T151724Z
LAST-MODIFIED:20170527T151724Z
UID:15903-1510344000-1510344000@schaudichan.com
SUMMARY:The Kooks - “Best-of-Tour” @ Pier 2 Bremen
DESCRIPTION:Die „Best-of-Tour“ der Indie-Rocker!\n \nVor zehn Jahren mischte wie aus dem Nichts eine neue Band die Szene auf: THE KOOKS veröffentlichten ihr Debütalbum „Inside In/Inside Out“ – eine Platte die sich übrigens bis heute verkauft: In diesem Oktober übersprangen die Verkaufszahlen in ihrer Heimat UK die 1.500.000 – was gleichbedeutend mit der fünften Platinauszeichnung für diesen Meilenstein ist. \nSeither sind die Jungs aus Brighton immer stärker geworden. Drei weitere Alben folgten\, die die Entwicklung zeigen: Nach dem erwachsenen Britpop des Debüts folgten mit „Konk“ eine vielseitigere Platte mit deutlich mehr Einflüssen\, der polierte Pop von „Junk of the Heart“ und zuletzt mit „Listen“ durch die Zusammenarbeit mit Hip Hop-Produzent Inflo die perkussivste Musik der KOOKS bislang. \nJetzt aber\, nach all diesen Platten und Songs\, riesigen Welttourneen\, der Vielzahl von Auszeichnungen\, der Anerkennung der Kritiker und den frenetischen Bekundungen der begeisterten Fans\, finden THE KOOKS\, es sei Zeit\, das alles gebührend zu feiern. Und wie macht man das am besten als Band\, die am liebsten auf der Bühne steht? Natürlich mit einer Jubiläumstour. Die Indie-Rocker kommen im Mai auf eine Best-of-Tour\, auf der sie u.a. ihre größten Hits und sicherlich auch die eine oder andere Besonderheit zum Besten geben werden. \n>> Tickets zum Event <<[ssba_hide]
URL:https://schaudichan.com/event/konzert-the-kooks-pier-2-bremen-10-11-2017/
LOCATION:Pier 2 Bremen\, Gröpelinger Fährweg 6\, Bremen\, 28237\, Deutschland
CATEGORIES:Konzerte
ATTACH;FMTTYPE=image/jpeg:https://schaudichan.com/sda-wp/wp-content/uploads/2017/04/170523_the_kooks_001.jpg
GEO:53.1084041;8.7509341
X-APPLE-STRUCTURED-LOCATION;VALUE=URI;X-ADDRESS=Pier 2 Bremen Gröpelinger Fährweg 6 Bremen 28237 Deutschland;X-APPLE-RADIUS=500;X-TITLE=Gröpelinger Fährweg 6:geo:8.7509341,53.1084041
END:VEVENT
END:VCALENDAR