BEGIN:VCALENDAR
VERSION:2.0
PRODID:-//schaudichan.com - ECPv5.16.4.1//NONSGML v1.0//EN
CALSCALE:GREGORIAN
METHOD:PUBLISH
X-WR-CALNAME:schaudichan.com
X-ORIGINAL-URL:https://schaudichan.com
X-WR-CALDESC:Veranstaltungen für schaudichan.com
BEGIN:VTIMEZONE
TZID:Europe/Helsinki
BEGIN:DAYLIGHT
TZOFFSETFROM:+0200
TZOFFSETTO:+0300
TZNAME:EEST
DTSTART:20140330T010000
END:DAYLIGHT
BEGIN:STANDARD
TZOFFSETFROM:+0300
TZOFFSETTO:+0200
TZNAME:EET
DTSTART:20141026T010000
END:STANDARD
END:VTIMEZONE
BEGIN:VEVENT
DTSTART;TZID=Europe/Helsinki:20140322T220000
DTEND;TZID=Europe/Helsinki:20140322T220000
DTSTAMP:20260421T113543
CREATED:20140307T134436Z
LAST-MODIFIED:20140307T134436Z
UID:4341-1395525600-1395525600@schaudichan.com
SUMMARY:20 Years of professional DJing @ Edelfettwerk Hamburg
DESCRIPTION:100% Club-& Soundretrospective – Trance Techno Acid House Revival 1990-1997\n \nDie frühen Neunziger und wir mittendrin! Techno und alles drum herum war neu und fesselnd! Die Produktionen waren noch innovativ und gingen unter die Haut. Jeder Track war einzigartig und elektrisierend und Woche für Woche konnte man neue Hymnen in den angesagtesten Clubs erhören. \n20 Jahre später\, unzählig wunderbare Momente mit vielen Erinnerungen liegen zurück und wir feiern am Samstag den 22. März\, gemeinsam mit Euch die nächste Episode der „20 Years of professional DJing“ im Edelfettwerk Hamburg! \nIn den letzten 12 Jahren spielten u.a. Gast DJs wie DJ Dag\, Jam El Mar\, Mark Spoon\, Steve Mason\, Taucher und Dr.Motte\, oder Live Act´s wie Sunbeam oder Hardfloor\, zusammen mit den Hamburger Local-Hereos und sorgten mit den damaligen Hymnen auf jeder „20 Years of professional DJing“ für ekstatischer Nächte mit schönen Erinnerungen. \nEin Highlight wird der Live-Act von MEGA’LO MANIA sein. Vor 20 Jahren! zum ersten Mal live im EFX-Club HH und nun am 22.03.2014 mit seinem wahrscheinlich letzten Revivalauftritt ever- ever! \n20 Years of professional DJing auf 2 Floors / Einlass: ab 23 Jahre! \n[ssba_hide]
URL:https://schaudichan.com/event/party-20-years-of-professional-djing-edelfettwerk-hamburg-22-03-2014/
LOCATION:Edelfettwerk Hamburg\, Schnackenburgallee 202\, Hamburg\, 22525\, Deutschland
CATEGORIES:Party
ATTACH;FMTTYPE=image/jpeg:https://schaudichan.com/sda-wp/wp-content/uploads/2014/03/140322_20_years_of_professional_djing_hamburg_001.jpg
GEO:53.59522;9.9055
X-APPLE-STRUCTURED-LOCATION;VALUE=URI;X-ADDRESS=Edelfettwerk Hamburg Schnackenburgallee 202 Hamburg 22525 Deutschland;X-APPLE-RADIUS=500;X-TITLE=Schnackenburgallee 202:geo:9.9055,53.59522
END:VEVENT
END:VCALENDAR