BEGIN:VCALENDAR
VERSION:2.0
PRODID:-//schaudichan.com - ECPv5.16.4.1//NONSGML v1.0//EN
CALSCALE:GREGORIAN
METHOD:PUBLISH
X-WR-CALNAME:schaudichan.com
X-ORIGINAL-URL:https://schaudichan.com
X-WR-CALDESC:Veranstaltungen für schaudichan.com
BEGIN:VTIMEZONE
TZID:Europe/Helsinki
BEGIN:DAYLIGHT
TZOFFSETFROM:+0200
TZOFFSETTO:+0300
TZNAME:EEST
DTSTART:20160327T010000
END:DAYLIGHT
BEGIN:STANDARD
TZOFFSETFROM:+0300
TZOFFSETTO:+0200
TZNAME:EET
DTSTART:20161030T010000
END:STANDARD
END:VTIMEZONE
BEGIN:VEVENT
DTSTART;TZID=Europe/Helsinki:20160220T220000
DTEND;TZID=Europe/Helsinki:20160220T220000
DTSTAMP:20260424T131417
CREATED:20160220T184313Z
LAST-MODIFIED:20180319T183401Z
UID:12108-1456005600-1456005600@schaudichan.com
SUMMARY:90s Reloaded @ Grosse Freiheit 36 Hamburg
DESCRIPTION:Abtanzen zu den Hits der 90er in Hamburg!\n \nJeden 3. Samstag im Monat! Abtanzen zu den Hits der 90er – von Eurodance über Black bis PopRock. \nDas hört sich nach einem ultimativen Tanzmix an? Richtig! Wir lassen an diesem Abend die Tanzfläche beben. Also\, seid mittendrin bei unserer Zeitreise durch die kultigen 90er Jahre! \n[ssba_hide]
URL:https://schaudichan.com/event/party-90s-reloaded-grosse-freiheit-36-hamburg-2/2016-02-20/
LOCATION:Grosse Freiheit 36 Hamburg\, Grosse Freiheit 36\, Hamburg\, 22767\, Deutschland
CATEGORIES:Party
ATTACH;FMTTYPE=image/jpeg:https://schaudichan.com/sda-wp/wp-content/uploads/2016/01/grosse_freiheit_36_hamburg_90s_reloaded_001.jpg
GEO:53.5510181;9.9576698
X-APPLE-STRUCTURED-LOCATION;VALUE=URI;X-ADDRESS=Grosse Freiheit 36 Hamburg Grosse Freiheit 36 Hamburg 22767 Deutschland;X-APPLE-RADIUS=500;X-TITLE=Grosse Freiheit 36:geo:9.9576698,53.5510181
END:VEVENT
END:VCALENDAR