BEGIN:VCALENDAR
VERSION:2.0
PRODID:-//schaudichan.com - ECPv5.16.4.1//NONSGML v1.0//EN
CALSCALE:GREGORIAN
METHOD:PUBLISH
X-WR-CALNAME:schaudichan.com
X-ORIGINAL-URL:https://schaudichan.com
X-WR-CALDESC:Veranstaltungen für schaudichan.com
BEGIN:VTIMEZONE
TZID:Europe/Helsinki
BEGIN:DAYLIGHT
TZOFFSETFROM:+0200
TZOFFSETTO:+0300
TZNAME:EEST
DTSTART:20150329T010000
END:DAYLIGHT
BEGIN:STANDARD
TZOFFSETFROM:+0300
TZOFFSETTO:+0200
TZNAME:EET
DTSTART:20151025T010000
END:STANDARD
END:VTIMEZONE
BEGIN:VEVENT
DTSTART;TZID=Europe/Helsinki:20151023T230000
DTEND;TZID=Europe/Helsinki:20151023T230000
DTSTAMP:20260423T141748
CREATED:20150927T131743Z
LAST-MODIFIED:20150927T131743Z
UID:10754-1445641200-1445641200@schaudichan.com
SUMMARY:90's Reloaded Rave Edition @ Grosse Freiheit 36 Hamburg
DESCRIPTION:Abtanzen zu den Technoclassics der 90er!\n \nWer kennt sie nicht\, die Rave’s von damals. Ob im Untergrund oder ganz öffentlich wie damals bei der Loveparade in Berlin. \nMillionen Menschen haben sich zu der Musik von Nalin & Kane\, Marcos Remus\, DJ Rush\, DJ Quicksilver und vielen mehr bewegt. \nAn diesem Abend wollen wir genau dieses Gefühl wieder aufleben lassen. \nDJ Nils Söhrens & DJ Ole van Dansk werden einen Klassiker nach dem anderen auflegen und mit Euch die Nacht durchfeiern. \n \n[ssba_hide]
URL:https://schaudichan.com/event/party-90s-reloaded-rave-edition-grosse-freiheit-36-hamburg-23-10-2015/
LOCATION:Grosse Freiheit 36 Hamburg\, Grosse Freiheit 36\, Hamburg\, 22767\, Deutschland
CATEGORIES:Party
ATTACH;FMTTYPE=image/jpeg:https://schaudichan.com/sda-wp/wp-content/uploads/2015/09/151023_90s_reloaded_grosse_freiheit_36_hamburg_001.jpg
GEO:53.5510181;9.9576698
X-APPLE-STRUCTURED-LOCATION;VALUE=URI;X-ADDRESS=Grosse Freiheit 36 Hamburg Grosse Freiheit 36 Hamburg 22767 Deutschland;X-APPLE-RADIUS=500;X-TITLE=Grosse Freiheit 36:geo:9.9576698,53.5510181
END:VEVENT
END:VCALENDAR