BEGIN:VCALENDAR
VERSION:2.0
PRODID:-//schaudichan.com - ECPv5.16.4.1//NONSGML v1.0//EN
CALSCALE:GREGORIAN
METHOD:PUBLISH
X-WR-CALNAME:schaudichan.com
X-ORIGINAL-URL:https://schaudichan.com
X-WR-CALDESC:Veranstaltungen für schaudichan.com
BEGIN:VTIMEZONE
TZID:Europe/Helsinki
BEGIN:DAYLIGHT
TZOFFSETFROM:+0200
TZOFFSETTO:+0300
TZNAME:EEST
DTSTART:20140330T010000
END:DAYLIGHT
BEGIN:STANDARD
TZOFFSETFROM:+0300
TZOFFSETTO:+0200
TZNAME:EET
DTSTART:20141026T010000
END:STANDARD
END:VTIMEZONE
BEGIN:VEVENT
DTSTART;TZID=Europe/Helsinki:20141107T230000
DTEND;TZID=Europe/Helsinki:20141107T230000
DTSTAMP:20260421T125359
CREATED:20140802T155123Z
LAST-MODIFIED:20140802T155123Z
UID:6127-1415401200-1415401200@schaudichan.com
SUMMARY:club927 - enough is not enough @ Moondoo Hamburg
DESCRIPTION:„club927“ – enough is not enough goes Moondoo!\n\nFreitag\, den 07.11.2014 geht der „club927“ in die nächste Runde! \n„club927“ ist ein Projekt der „Blitzlicht Projekte Event Agentur“. Wir verstehen diese Eventreihe als junge Hamburger Szeneveranstaltung die speziell mit durchdachten Bookings (sowohl DJs als auch Special Guests)\, einem attraktiven Design und dem eigenen Stil hervorstechen soll. \nFür die richtigen Urban Soundz leiten der deutschlandbekannte DJ Static von den VIBEKINGz (www.vibekingz.com) & DJ Leo Large (www.leolarge.com) Euch durch die Nacht. Um den Abend endgültig abzurunden\, erwarten Euch zahlreiche weitere Specials & Goodies. \nStarten wird das ganze um 23 Uhr. Einlass ab 18 Jahren (unter Vorbehalt)! \nJeden 1. Freitag im Monat wird das Basement des „Moondoo“ (www.moondoo.de) das neue zu Hause des „club927 sein! \nNext Dates: 05.09.2014 / 03.10.2014 / 07.11.2014[ssba_hide]
URL:https://schaudichan.com/event/party-club927-enough-is-not-enough-moondoo-hamburg-07-11-2014/
LOCATION:Moondoo Hamburg\, Reeperbahn 136\, Hamburg\, 20359\, Deutschland
CATEGORIES:Party
ATTACH;FMTTYPE=image/jpeg:https://schaudichan.com/sda-wp/wp-content/uploads/2014/07/club927_moondoo_hamburg.jpg
GEO:53.54975;9.95948
X-APPLE-STRUCTURED-LOCATION;VALUE=URI;X-ADDRESS=Moondoo Hamburg Reeperbahn 136 Hamburg 20359 Deutschland;X-APPLE-RADIUS=500;X-TITLE=Reeperbahn 136:geo:9.95948,53.54975
END:VEVENT
END:VCALENDAR