BEGIN:VCALENDAR
VERSION:2.0
PRODID:-//schaudichan.com - ECPv5.16.4.1//NONSGML v1.0//EN
CALSCALE:GREGORIAN
METHOD:PUBLISH
X-WR-CALNAME:schaudichan.com
X-ORIGINAL-URL:https://schaudichan.com
X-WR-CALDESC:Veranstaltungen für schaudichan.com
BEGIN:VTIMEZONE
TZID:Europe/Helsinki
BEGIN:DAYLIGHT
TZOFFSETFROM:+0200
TZOFFSETTO:+0300
TZNAME:EEST
DTSTART:20140330T010000
END:DAYLIGHT
BEGIN:STANDARD
TZOFFSETFROM:+0300
TZOFFSETTO:+0200
TZNAME:EET
DTSTART:20141026T010000
END:STANDARD
END:VTIMEZONE
BEGIN:VEVENT
DTSTART;TZID=Europe/Helsinki:20140905T210000
DTEND;TZID=Europe/Helsinki:20140905T210000
DTSTAMP:20260423T143410
CREATED:20140814T153725Z
LAST-MODIFIED:20140814T153725Z
UID:6282-1409950800-1409950800@schaudichan.com
SUMMARY:Die Nacht der Clubs @ Grosse Freiheit 36
DESCRIPTION:Ein Ticket\, 28 Clubs\, über 100 Live Acts!\n\nGrosse Freiheit 36 präsentiert die 80er & 90er Kultparty mit OLI P.! \nBei der Hamburger NACHT DER CLUBS zelebriert die Clubszene am 05. September 2014 den Startschuss für die bevorstehende Club-Saison. Und wir präsentieren Euch unsere 80er & 90er Kultparty mit OLI P.! \nDer Clou: Ein Bus-Shuttle fährt die Besucher in einer hohen Taktfrequenz von Clubtür zu Clubtür. Somit wird ein nächtliches Club-Hopping ermöglicht\, bei dem die Party bereits im Bus beginnt. \nEin Ticket\n – 28 Hamburger Musikclubs\n – über 100 Live-Acts\n – inklusive Bus-Shuttle \n \n>> Tickets zum Event <<[ssba_hide]
URL:https://schaudichan.com/event/party-die-nacht-der-clubs-grosse-freiheit-36-hamburg-05-09-2014/
LOCATION:Grosse Freiheit 36 Hamburg\, Grosse Freiheit 36\, Hamburg\, 22767\, Deutschland
CATEGORIES:Party
ATTACH;FMTTYPE=image/jpeg:https://schaudichan.com/sda-wp/wp-content/uploads/2014/08/140905_die_nacht_der_clubs_hamburg_001.jpg
GEO:53.5510181;9.9576698
X-APPLE-STRUCTURED-LOCATION;VALUE=URI;X-ADDRESS=Grosse Freiheit 36 Hamburg Grosse Freiheit 36 Hamburg 22767 Deutschland;X-APPLE-RADIUS=500;X-TITLE=Grosse Freiheit 36:geo:9.9576698,53.5510181
END:VEVENT
END:VCALENDAR