BEGIN:VCALENDAR
VERSION:2.0
PRODID:-//schaudichan.com - ECPv5.16.4.1//NONSGML v1.0//EN
CALSCALE:GREGORIAN
METHOD:PUBLISH
X-WR-CALNAME:schaudichan.com
X-ORIGINAL-URL:https://schaudichan.com
X-WR-CALDESC:Veranstaltungen für schaudichan.com
BEGIN:VTIMEZONE
TZID:Europe/Helsinki
BEGIN:DAYLIGHT
TZOFFSETFROM:+0200
TZOFFSETTO:+0300
TZNAME:EEST
DTSTART:20150329T010000
END:DAYLIGHT
BEGIN:STANDARD
TZOFFSETFROM:+0300
TZOFFSETTO:+0200
TZNAME:EET
DTSTART:20151025T010000
END:STANDARD
END:VTIMEZONE
BEGIN:VEVENT
DTSTART;TZID=Europe/Helsinki:20150606T230000
DTEND;TZID=Europe/Helsinki:20150606T230000
DTSTAMP:20260426T043050
CREATED:20150527T150235Z
LAST-MODIFIED:20150527T150235Z
UID:9388-1433631600-1433631600@schaudichan.com
SUMMARY:Game Over 2 @ Club Hamburg
DESCRIPTION:GAME OVER geht in die zweite Runde!\n \nAm 06.06.2015 geht GAME OVER in die zweite Runde! DJ Static (VIBEKINGz / Fack Ju Göthe)\, sowie sein Star Mc Nitro (Fack Ju Göthe & 3 Türken und ein Baby) werden mit dem Hamburger Szene DJ Mo Cutz (Rokkwilder) die Zerstörung des Abends zu eurem Highlight machen! \nAuf dem zweiten Floor wird die bekannte DJ Crew Kunstgetriebe (KLANGGETRIEBE) das Beste aus Deep House & Tech House mixen. Auch dieser Floor wird bis ins letzte Detail abgerissen und zerstört. \nEs wird gefeiert und getanzt bis wir GAME OVER sind![ssba_hide]
URL:https://schaudichan.com/event/party-game-over-2-club-hamburg-06-06-2015/
LOCATION:Club Hamburg\, Reeperbahn 48\, Hamburg\, 20359\, Deutschland
CATEGORIES:Party
ATTACH;FMTTYPE=image/jpeg:https://schaudichan.com/sda-wp/wp-content/uploads/2015/05/150606_game_over_club_hamburg_001.jpg
GEO:53.549885;9.9642807
X-APPLE-STRUCTURED-LOCATION;VALUE=URI;X-ADDRESS=Club Hamburg Reeperbahn 48 Hamburg 20359 Deutschland;X-APPLE-RADIUS=500;X-TITLE=Reeperbahn 48:geo:9.9642807,53.549885
END:VEVENT
END:VCALENDAR