BEGIN:VCALENDAR
VERSION:2.0
PRODID:-//schaudichan.com - ECPv5.16.4.1//NONSGML v1.0//EN
CALSCALE:GREGORIAN
METHOD:PUBLISH
X-WR-CALNAME:schaudichan.com
X-ORIGINAL-URL:https://schaudichan.com
X-WR-CALDESC:Veranstaltungen für schaudichan.com
BEGIN:VTIMEZONE
TZID:Europe/Helsinki
BEGIN:DAYLIGHT
TZOFFSETFROM:+0200
TZOFFSETTO:+0300
TZNAME:EEST
DTSTART:20170326T010000
END:DAYLIGHT
BEGIN:STANDARD
TZOFFSETFROM:+0300
TZOFFSETTO:+0200
TZNAME:EET
DTSTART:20171029T010000
END:STANDARD
END:VTIMEZONE
BEGIN:VEVENT
DTSTART;TZID=Europe/Helsinki:20170217T210000
DTEND;TZID=Europe/Helsinki:20170217T210000
DTSTAMP:20260421T141652
CREATED:20161224T185145Z
LAST-MODIFIED:20161224T185145Z
UID:14677-1487365200-1487365200@schaudichan.com
SUMMARY:Lilabe 2017 @ HAW Hamburg-Bergedorf
DESCRIPTION:Norddeutschlands schärfste & wildeste Kostümparty!\n \nAm Freitag\, den 17. und Samstag\, den 18. Februar 2017\, steigt wieder Deutschlands schärfste und wildeste Verkleidungsparty – das LILABE – in der HAW in Hamburg-Bergedorf! \nAuch im zweiundvierzigstem Jahr gibt es wieder ein Superprogramm auf sechs Dancefloors! Ob Oldies\, Schlagerparade\, Top Fourty\, House oder R&B\, hier kommt jeder auf seine Kosten. \nAn über 20 Bars und Tresen gibt es coole Drinks für jeden Geschmack! Im großen Biergarten gibt es original bayrische Schmankerl und ein kühles Bier vom Fass. Dazu a zünftige bayrische Musi! \nIm Funpark ein Hau den Lukas\, Bullenreiten\, Nagelklopfen usw. Natürlich gibt es gut versteckt auch wieder die berühmte Fummelwiese! \n \nAn beiden Tagen werden wieder über 8.000 Besucher erwartet! Rechtzeitiges Kommen sichert schnellen Einlass! Eine gigantische Dekoration und Mega-Technik sorgen dafür\, dass die ehrwürdige Halle der HAW bebt! \nEinlass nur mit Kostüm und ab 18 Jahren!>> Tickets zum Event <<\nFotos zur LILABE 2016: Freitag\, 19.02.2016 / Samstag\, 20.02.2016\n[ssba_hide]
URL:https://schaudichan.com/event/party-lilabe-haw-hamburg-bergedorf-17-02-2017/
LOCATION:HAW Hamburg-Bergedorf\, Lohbrügger Kirchstraße 65\, Hamburg\, 21033\, Deutschland
CATEGORIES:Party
ATTACH;FMTTYPE=image/jpeg:https://schaudichan.com/sda-wp/wp-content/uploads/2014/02/140222_lilabe_2014_hamburg_2.jpg
GEO:53.493803;10.199175
X-APPLE-STRUCTURED-LOCATION;VALUE=URI;X-ADDRESS=HAW Hamburg-Bergedorf Lohbrügger Kirchstraße 65 Hamburg 21033 Deutschland;X-APPLE-RADIUS=500;X-TITLE=Lohbrügger Kirchstraße 65:geo:10.199175,53.493803
END:VEVENT
END:VCALENDAR