BEGIN:VCALENDAR
VERSION:2.0
PRODID:-//schaudichan.com - ECPv5.16.4.1//NONSGML v1.0//EN
CALSCALE:GREGORIAN
METHOD:PUBLISH
X-WR-CALNAME:schaudichan.com
X-ORIGINAL-URL:https://schaudichan.com
X-WR-CALDESC:Veranstaltungen für schaudichan.com
BEGIN:VTIMEZONE
TZID:Europe/Helsinki
BEGIN:DAYLIGHT
TZOFFSETFROM:+0200
TZOFFSETTO:+0300
TZNAME:EEST
DTSTART:20160327T010000
END:DAYLIGHT
BEGIN:STANDARD
TZOFFSETFROM:+0300
TZOFFSETTO:+0200
TZNAME:EET
DTSTART:20161030T010000
END:STANDARD
END:VTIMEZONE
BEGIN:VEVENT
DTSTART;TZID=Europe/Helsinki:20160723T220000
DTEND;TZID=Europe/Helsinki:20160723T220000
DTSTAMP:20260423T142315
CREATED:20160711T121732Z
LAST-MODIFIED:20160711T121732Z
UID:13288-1469311200-1469311200@schaudichan.com
SUMMARY:Push to Party @ Grosse Freiheit 36 Hamburg
DESCRIPTION:„DRINK\, PUSH & PARTY!“ – eine Party\, die anders ist!\n \nWir präsentieren die mittlerweile 7. Ausgabe der Partyreihe! Ja schon die 7.! Was haben wir nicht alles schon erlebt? \nEvil Jared\, der Jägermeister ausgeschenkt hat\, Gottlieb Wendehals mit einer Polonaise durch den ganzen Laden\, Lucha Libre Wrestler\, die mit den Gästen eine Kissenschlacht gemacht haben und auch das Moorhuhn haben wir schon durch den Laden gejagt. \nJa\, es kommt ganz schön was zusammen. Nicht vergessen wollen wir auch die ganzen musikalischen und artistischen Darbietungen – jede Überraschung für sich war einzigartig. Jetzt geht es an die 7. Ausgabe und auch dieses Mal haben wir wieder kleine und große Überraschungen\, die auf euch warten. \nNatürlich wieder getreu dem Motto „DRINK\, PUSH & PARTY!“ Wer das Einmalige an der Partyreihe noch nicht kennt\, dem wird es hier noch mal kurz erklärt: \nIhr bestimmt\, wann die Überraschung stattfindet. Ihr habt die Möglichkeit\, sobald ihr ein Getränk bestellt\, auf einen Buzzer zu drücken und dem Ziel immer näher zu kommen. Sobald ihr das Ziel erreicht habt\, gibt es die nächste Überraschungsshow auf der Bühne! Seid gespannt\, denn es wird wieder eine Nacht in der alles passieren kann! \nNeben den Shows darf natürlich auch die Party nicht zu kurz kommen. Dafür haben wir wieder unsere 2 Garanten an Bord – DJ Decane und Matt Nautique spielen alles\, was beim Feiern nicht fehlen darf. \n[ssba_hide]
URL:https://schaudichan.com/event/party-push-to-party-grosse-freiheit-36-hamburg-23-07-2016/
LOCATION:Grosse Freiheit 36 Hamburg\, Grosse Freiheit 36\, Hamburg\, 22767\, Deutschland
CATEGORIES:Party
ATTACH;FMTTYPE=image/jpeg:https://schaudichan.com/sda-wp/wp-content/uploads/2016/07/160723_push_to_party_grosse_freiheit_36_hamburg_001.jpg
GEO:53.5510181;9.9576698
X-APPLE-STRUCTURED-LOCATION;VALUE=URI;X-ADDRESS=Grosse Freiheit 36 Hamburg Grosse Freiheit 36 Hamburg 22767 Deutschland;X-APPLE-RADIUS=500;X-TITLE=Grosse Freiheit 36:geo:9.9576698,53.5510181
END:VEVENT
END:VCALENDAR