BEGIN:VCALENDAR
VERSION:2.0
PRODID:-//schaudichan.com - ECPv5.16.4.1//NONSGML v1.0//EN
CALSCALE:GREGORIAN
METHOD:PUBLISH
X-WR-CALNAME:schaudichan.com
X-ORIGINAL-URL:https://schaudichan.com
X-WR-CALDESC:Veranstaltungen für schaudichan.com
BEGIN:VTIMEZONE
TZID:Europe/Helsinki
BEGIN:DAYLIGHT
TZOFFSETFROM:+0200
TZOFFSETTO:+0300
TZNAME:EEST
DTSTART:20150329T010000
END:DAYLIGHT
BEGIN:STANDARD
TZOFFSETFROM:+0300
TZOFFSETTO:+0200
TZNAME:EET
DTSTART:20151025T010000
END:STANDARD
END:VTIMEZONE
BEGIN:VEVENT
DTSTART;TZID=Europe/Helsinki:20151024T230000
DTEND;TZID=Europe/Helsinki:20151024T230000
DTSTAMP:20260423T141935
CREATED:20150927T132848Z
LAST-MODIFIED:20150927T132848Z
UID:10757-1445727600-1445727600@schaudichan.com
SUMMARY:Push to Party @ Grosse Freiheit 36 Hamburg
DESCRIPTION:„DRINK\, PUSH & PARTY!“ – eine Party\, die anders ist!\n \nEine Nacht voller sexy\, skurriler\, trashiger und vielleicht auch prominenter Überraschungen. DJ Decane und DJ CYC!U5 spielen alles\, was auf einer guten Party nicht fehlen darf. Aber zusätzlich überraschen wir euch noch mit ganz speziellen Shows auf unserer Bühne. Das Besondere: Ihr bestimmt\, wann die Überraschung stattfindet. Ihr habt die Möglichkeit\, sobald ihr ein Getränk bestellt\, auf einen Buzzer zu drücken und dem Ziel immer näher zu kommen. \nAlso lasst unsere Tresenkräfte schwitzen und werdet belohnt. Jeder Drink ein Druck auf den Button. Pusht die Anzeige der Drinks weiter hoch. Sobald ein bestimmtes Ziel erreicht ist\, wird die nächste Show ausgelöst. Alle Augen auf die Bühne und staunt jedes Mal aufs Neue! \n„DRINK\, PUSH & PARTY!“ – Zutritt ab 18 Jahren![ssba_hide]
URL:https://schaudichan.com/event/party-push-to-party-grosse-freiheit-36-hamburg-24-10-2015/
LOCATION:Grosse Freiheit 36 Hamburg\, Grosse Freiheit 36\, Hamburg\, 22767\, Deutschland
CATEGORIES:Party
ATTACH;FMTTYPE=image/jpeg:https://schaudichan.com/sda-wp/wp-content/uploads/2015/09/151024_push_to_party_grosse_freiheit_36_hamburg_001.jpg
GEO:53.5510181;9.9576698
X-APPLE-STRUCTURED-LOCATION;VALUE=URI;X-ADDRESS=Grosse Freiheit 36 Hamburg Grosse Freiheit 36 Hamburg 22767 Deutschland;X-APPLE-RADIUS=500;X-TITLE=Grosse Freiheit 36:geo:9.9576698,53.5510181
END:VEVENT
END:VCALENDAR