BEGIN:VCALENDAR
VERSION:2.0
PRODID:-//schaudichan.com - ECPv5.16.4.1//NONSGML v1.0//EN
CALSCALE:GREGORIAN
METHOD:PUBLISH
X-WR-CALNAME:schaudichan.com
X-ORIGINAL-URL:https://schaudichan.com
X-WR-CALDESC:Veranstaltungen für schaudichan.com
BEGIN:VTIMEZONE
TZID:Europe/Helsinki
BEGIN:DAYLIGHT
TZOFFSETFROM:+0200
TZOFFSETTO:+0300
TZNAME:EEST
DTSTART:20190331T010000
END:DAYLIGHT
BEGIN:STANDARD
TZOFFSETFROM:+0300
TZOFFSETTO:+0200
TZNAME:EET
DTSTART:20191027T010000
END:STANDARD
END:VTIMEZONE
BEGIN:VEVENT
DTSTART;TZID=Europe/Helsinki:20190430T200000
DTEND;TZID=Europe/Helsinki:20190430T200000
DTSTAMP:20260421T163301
CREATED:20190417T191123Z
LAST-MODIFIED:20190417T191123Z
UID:19625-1556654400-1556654400@schaudichan.com
SUMMARY:Tanz in den Mai @ Cafe Seeterrassen Hamburg
DESCRIPTION:6 Clubs feiern auf 6 Dancefloors!\n \nSeit 17 Jahren steigt Hamburgs größte Tanz in den Mai Sause mitten im Park Planten un Blomen. 6 Clubs feiern auf 6 Dancefloors! Auf 6 verschiedenen Tanzflächen veranstalten wir erneut einen Tanz in den Mai für jeden Geschmack! \nFloor 1 – Partykracher\, Schlager und Mallorca (SCHLAGerSAHNE) – DJ Robert Laube & DJ CRAZY PADDY – live on stage: Jack Gelee  (ca. 2 Uhr)!\nFloor 2 – Black Music (God’s Groove Club) – Dj Trapton\nFloor 3 – das Beste aus den 70ern & 80ern (Disco 80)\nFloor 4 – House & Electro (stilbruch)\nFloor 5 – Aktuelle Charts (Boozebusters)\nTerrasse – Chill Out\, Cafe del Mar (sunset project) \nAuf der 2.000 qm großen Aussenterrrasse direkt am See genießt ihr bereit ab 20 Uhr ein leckeres BBQ oder einen leckeren Drink. Unsere verlängerte Happy Hour von 20 bis 22 Uhr (2 für 1 auf alle Carlsberg) weckt dabei echte Frühlingsgefühle. Die große Terrasse kann bei schlechtem Wetter überdacht werden. Damit wird uns Petrus sicher nicht das Fest vermiesen! \n[ssba_hide]
URL:https://schaudichan.com/event/party-tanz-in-den-mai-cafe-seeterrassen-hamburg-30-04-2019/
LOCATION:Cafe Seeterrassen\, St. Petersburger Strasse 22\, Hamburg\, 20355\, Deutschland
CATEGORIES:Party
ATTACH;FMTTYPE=image/jpeg:https://schaudichan.com/sda-wp/wp-content/uploads/2014/07/140705_cafe_seeterrassen_schlagersahne_wm_party.jpg
GEO:53.5605257;9.9805525
X-APPLE-STRUCTURED-LOCATION;VALUE=URI;X-ADDRESS=Cafe Seeterrassen St. Petersburger Strasse 22 Hamburg 20355 Deutschland;X-APPLE-RADIUS=500;X-TITLE=St. Petersburger Strasse 22:geo:9.9805525,53.5605257
END:VEVENT
END:VCALENDAR