BEGIN:VCALENDAR
VERSION:2.0
PRODID:-//schaudichan.com - ECPv5.16.4.1//NONSGML v1.0//EN
CALSCALE:GREGORIAN
METHOD:PUBLISH
X-WR-CALNAME:schaudichan.com
X-ORIGINAL-URL:https://schaudichan.com
X-WR-CALDESC:Veranstaltungen für schaudichan.com
BEGIN:VTIMEZONE
TZID:Europe/Helsinki
BEGIN:DAYLIGHT
TZOFFSETFROM:+0200
TZOFFSETTO:+0300
TZNAME:EEST
DTSTART:20170326T010000
END:DAYLIGHT
BEGIN:STANDARD
TZOFFSETFROM:+0300
TZOFFSETTO:+0200
TZNAME:EET
DTSTART:20171029T010000
END:STANDARD
END:VTIMEZONE
BEGIN:VEVENT
DTSTART;TZID=Europe/Helsinki:20171002T213000
DTEND;TZID=Europe/Helsinki:20171002T213000
DTSTAMP:20260421T141812
CREATED:20170919T145104Z
LAST-MODIFIED:20170919T145104Z
UID:16722-1506979800-1506979800@schaudichan.com
SUMMARY:The Hip Hop Lounge - Marty Baller Live! @ Moondoo Hamburg
DESCRIPTION:Wir füttern dich mit feinsten Hip Hop Sounds!\n \nMarty Baller hat bereits mit vielen Trap Ikonen wie zum Beispiel A$AP Ferg\, Lil Uzi Vert und Migos zusammen auf großen Bühnen gestanden. Seine scharfen Texte gepaart mit knallenden Beat geben ihm Zugang zur Hip-Hop High-Level-Szene\, aus diesem Grund wurde er auch beim Coachella\, Pitchfork Festival oder SXSW gebucht. \nAm 02.10. macht Marty Baller auf seiner Europa und Asien Tour halt bei uns in Hamburg und zwar im moondoo auf der zweitbesten Hip Hop Party der Welt. Er wird seine besten Hits performen und die Party zum kochen bringen. \nUnterstützt wird er von unseren Hamburg Locals OSVKV und Marvin SLikK. Die beiden Jungs vom Squad „FINE88E“ sind schon \nlänger im Geschäft und wissen wie man das Publikum und die Crew in Ihren Bann zieht. Der Einlass beginnt an diesem besonderen Tag schon um 21:45 Uhr und Showtime ist ab 22 Uhr! \nEin weiteres Highlight: Unser Resident DJ DAM-ON feiert mit all seinen Freunden Geburtstag und hat einige DJ Gäste eingeladen. Also freut euch auf coole Live Künstler und ein buntes DJ Line Up mit den einen oder anderen Überraschungen. \nDurch die Nacht mit: \nLIVE:\nMARTY BALLER (A$AP MOB/USA)\nOSVKV & Marvin SLikK \nDJ DAM-ON Birthday Squad \nIst ja Hammer… Hammer… Haaaart…!!![ssba_hide]
URL:https://schaudichan.com/event/party-the-hip-hop-lounge-moondoo-hamburg-02-10-2017/
LOCATION:Moondoo Hamburg\, Reeperbahn 136\, Hamburg\, 20359\, Deutschland
CATEGORIES:Party
ATTACH;FMTTYPE=image/jpeg:https://schaudichan.com/sda-wp/wp-content/uploads/2017/09/171002_the_hip_hop_lounge_moondoo_hamburg_001.jpg
GEO:53.54975;9.95948
X-APPLE-STRUCTURED-LOCATION;VALUE=URI;X-ADDRESS=Moondoo Hamburg Reeperbahn 136 Hamburg 20359 Deutschland;X-APPLE-RADIUS=500;X-TITLE=Reeperbahn 136:geo:9.95948,53.54975
END:VEVENT
END:VCALENDAR