BEGIN:VCALENDAR
VERSION:2.0
PRODID:-//schaudichan.com - ECPv5.16.4.1//NONSGML v1.0//EN
CALSCALE:GREGORIAN
METHOD:PUBLISH
X-WR-CALNAME:schaudichan.com
X-ORIGINAL-URL:https://schaudichan.com
X-WR-CALDESC:Veranstaltungen für schaudichan.com
BEGIN:VTIMEZONE
TZID:Europe/Helsinki
BEGIN:DAYLIGHT
TZOFFSETFROM:+0200
TZOFFSETTO:+0300
TZNAME:EEST
DTSTART:20160327T010000
END:DAYLIGHT
BEGIN:STANDARD
TZOFFSETFROM:+0300
TZOFFSETTO:+0200
TZNAME:EET
DTSTART:20161030T010000
END:STANDARD
END:VTIMEZONE
BEGIN:VEVENT
DTSTART;TZID=Europe/Helsinki:20160430T230000
DTEND;TZID=Europe/Helsinki:20160430T230000
DTSTAMP:20260421T161053
CREATED:20160414T173951Z
LAST-MODIFIED:20160414T173951Z
UID:12593-1462057200-1462057200@schaudichan.com
SUMMARY:The Hip Hop Lounge - Tanz in den Mai @ Moondoo Hamburg
DESCRIPTION:Wir füttern dich mit feinsten Hip Hop Sounds!\n \nWer tanzt nicht gern?! Aber am liebsten tanzen wir doch alle den warmen Monaten des Jahres entgegen. Die Party mit Kultstatus tanzt am 30.04. gemeinsam mit euch im stilvollen moondoo in den Mai herein. \nGetanzt und abgefeiert wird zu Urbanen und Klangvollen Hip Hop & Rnb Sounds\, aber ihr wisst ja\, bei uns nur das Beste. \nUm aufgetankt mit guter Laune und ganz viel Liebe in den Abend zu starten präsentieren wir euch an diesem Abend eine kleine „Live-Session“ mit der Musikerin Gwen. Wer die jüngste Session des Rappers und Sängers Teesy aufmerksam verfolgt hat\, dem dürfte die Sängerin Gwen bereits bekannt sein: Die beeindruckende Stimme\, die da aus dem Background hinter Cro\, Megaloh und \nJulian Williams erklang und die Aufmerksamkeit auf sich zog\, sie gehört ihr: Gwen\, die deutsche Soul-Überraschung der Stunde und am 30.04. zu Gast auf der Hip Hop Lounge! \nDurch die Nacht mit den City-DJs: \nDJ MAGIC (Trecksetters)\nDJ NUMAH-ONE\nGWEN LIVE!\nDJ DAM-ON\nDJ CHICO G\nDJ NOOR\nDJ M-O \nMan nehme: Hip Hop\, RnB und artverwandtes und ganz viel gute Laune. Serviert von den City-DJs D aus Hamburg\, der Newcomer DJ M-O und DJ MAGIC von den Trecksetters. Die Kombination schmeckt. Ist ja Hammer… Hammer… Haaaart…!!![ssba_hide]
URL:https://schaudichan.com/event/party-the-hip-hop-lounge-tanz-in-den-mai-moondoo-hamburg-30-04-2016/
LOCATION:Moondoo Hamburg\, Reeperbahn 136\, Hamburg\, 20359\, Deutschland
CATEGORIES:Party
ATTACH;FMTTYPE=image/jpeg:https://schaudichan.com/sda-wp/wp-content/uploads/2016/04/160430_the_hip_hop_lounge_moondoo_hamburg_001.jpg
GEO:53.54975;9.95948
X-APPLE-STRUCTURED-LOCATION;VALUE=URI;X-ADDRESS=Moondoo Hamburg Reeperbahn 136 Hamburg 20359 Deutschland;X-APPLE-RADIUS=500;X-TITLE=Reeperbahn 136:geo:9.95948,53.54975
END:VEVENT
END:VCALENDAR