BEGIN:VCALENDAR
VERSION:2.0
PRODID:-//schaudichan.com - ECPv5.16.4.1//NONSGML v1.0//EN
CALSCALE:GREGORIAN
METHOD:PUBLISH
X-WR-CALNAME:schaudichan.com
X-ORIGINAL-URL:https://schaudichan.com
X-WR-CALDESC:Veranstaltungen für schaudichan.com
BEGIN:VTIMEZONE
TZID:Europe/Helsinki
BEGIN:DAYLIGHT
TZOFFSETFROM:+0200
TZOFFSETTO:+0300
TZNAME:EEST
DTSTART:20140330T010000
END:DAYLIGHT
BEGIN:STANDARD
TZOFFSETFROM:+0300
TZOFFSETTO:+0200
TZNAME:EET
DTSTART:20141026T010000
END:STANDARD
END:VTIMEZONE
BEGIN:VEVENT
DTSTART;TZID=Europe/Helsinki:20140322T230000
DTEND;TZID=Europe/Helsinki:20140322T230000
DTSTAMP:20260421T142009
CREATED:20140226T174449Z
LAST-MODIFIED:20140226T174449Z
UID:4220-1395529200-1395529200@schaudichan.com
SUMMARY:The Hip Hop Lounge @ Terrace Hill
DESCRIPTION:Wir füttern dich mit feinsten Hip Hop Sounds!\n\nWir läuten den Frühling ein – egal\, ob es draußen schneit\, regnet\, hagelt oder stürmt! Astronomisch und meteorologisch haben wir Frühling und den wollen wir auch feiern. \nWir freuen uns auf eine erneute wunderbare Nacht mit euch im altwürdigen Bunker in Hamburg – ganz hoch oben im 5. Stock im schönen Terrace Hill feiern wir wild\, bunt und laut. \nDIE ZWEITBESTE HIP HOP PARTY DER WELT präsentiert die „Spring Opening-Party“. Ganz hoch über Hamburg feiern wir zur besten Musik der City-DJs. \nDen Frühling läuten ein: \nCity-DJs:\nDJ Numah-One\nDJ Dam-On\nDJ Chico G\nDJ O2K\nDJ Da Wizard\nDJ H-Keem \nIst ja Hammer… Hammer… Haaaart…!!![ssba_hide]
URL:https://schaudichan.com/event/party-the-hip-hop-lounge-terrace-hill-hamburg-22-03-2014/
LOCATION:Terrace Hill\, Feldstraße 66\, Hamburg\, 20359\, Deutschland
CATEGORIES:Party
ATTACH;FMTTYPE=image/jpeg:https://schaudichan.com/sda-wp/wp-content/uploads/2014/02/140322_the_hip_hop_lounge_1.jpg
GEO:53.55655;9.96968
X-APPLE-STRUCTURED-LOCATION;VALUE=URI;X-ADDRESS=Terrace Hill Feldstraße 66 Hamburg 20359 Deutschland;X-APPLE-RADIUS=500;X-TITLE=Feldstraße 66:geo:9.96968,53.55655
END:VEVENT
END:VCALENDAR