BEGIN:VCALENDAR
VERSION:2.0
PRODID:-//schaudichan.com - ECPv5.16.4.1//NONSGML v1.0//EN
CALSCALE:GREGORIAN
METHOD:PUBLISH
X-WR-CALNAME:schaudichan.com
X-ORIGINAL-URL:https://schaudichan.com
X-WR-CALDESC:Veranstaltungen für schaudichan.com
BEGIN:VTIMEZONE
TZID:Europe/Helsinki
BEGIN:DAYLIGHT
TZOFFSETFROM:+0200
TZOFFSETTO:+0300
TZNAME:EEST
DTSTART:20140330T010000
END:DAYLIGHT
BEGIN:STANDARD
TZOFFSETFROM:+0300
TZOFFSETTO:+0200
TZNAME:EET
DTSTART:20141026T010000
END:STANDARD
END:VTIMEZONE
BEGIN:VEVENT
DTSTART;TZID=Europe/Helsinki:20141108T210000
DTEND;TZID=Europe/Helsinki:20141108T210000
DTSTAMP:20260421T113138
CREATED:20140919T195553Z
LAST-MODIFIED:20140919T195553Z
UID:6793-1415480400-1415480400@schaudichan.com
SUMMARY:Trinity White Night @ Edelfettwerk Hamburg
DESCRIPTION:White Night III – meets Funky Grooves!\n \nDresscode: White or elegant \nLine Up:\nJens Lissat\nSwen Geiss\nGary D.\nMirco Nagel\nJay Cool\nUwe Schröder  \nTicket-Vorverkauf (14 Euro) über: Trinity-Ticket@outlook.com[ssba_hide]
URL:https://schaudichan.com/event/party-trinity-white-night-edelfettwerk-hamburg-08-11-2014/
LOCATION:Edelfettwerk Hamburg\, Schnackenburgallee 202\, Hamburg\, 22525\, Deutschland
CATEGORIES:Party
ATTACH;FMTTYPE=image/jpeg:https://schaudichan.com/sda-wp/wp-content/uploads/2014/09/141108_trinity_white_night_edelfettwerk_hamburg.jpg
GEO:53.59522;9.9055
X-APPLE-STRUCTURED-LOCATION;VALUE=URI;X-ADDRESS=Edelfettwerk Hamburg Schnackenburgallee 202 Hamburg 22525 Deutschland;X-APPLE-RADIUS=500;X-TITLE=Schnackenburgallee 202:geo:9.9055,53.59522
END:VEVENT
END:VCALENDAR