BEGIN:VCALENDAR
VERSION:2.0
PRODID:-//schaudichan.com - ECPv5.16.4.1//NONSGML v1.0//EN
CALSCALE:GREGORIAN
METHOD:PUBLISH
X-WR-CALNAME:schaudichan.com
X-ORIGINAL-URL:https://schaudichan.com
X-WR-CALDESC:Veranstaltungen für schaudichan.com
BEGIN:VTIMEZONE
TZID:Europe/Helsinki
BEGIN:DAYLIGHT
TZOFFSETFROM:+0200
TZOFFSETTO:+0300
TZNAME:EEST
DTSTART:20180325T010000
END:DAYLIGHT
BEGIN:STANDARD
TZOFFSETFROM:+0300
TZOFFSETTO:+0200
TZNAME:EET
DTSTART:20181028T010000
END:STANDARD
END:VTIMEZONE
BEGIN:VEVENT
DTSTART;TZID=Europe/Helsinki:20180430T235500
DTEND;TZID=Europe/Helsinki:20180430T235500
DTSTAMP:20260426T053448
CREATED:20180316T192157Z
LAST-MODIFIED:20180316T192313Z
UID:17895-1525132500-1525132500@schaudichan.com
SUMMARY:Wighnomy Brothers @ Uebel & Gefährlich Hamburg
DESCRIPTION:Wighnomy Brothers pres. by Broken Forms im Uebel & Gefährlich!\n \nWighnomy Brothers im Uebel & Gefährlich (Ballsaal\, Turmzimmer & Dachterrasse) \nLine Up: \nWighnomy Brothers (Kompakt/Freude am Tanzen)\nSedef Adafi (HAMAM Nights)\nTobias Schmid (auto.matic.music)\nConstantijn Lange (Laut & Luise)\nMaes (Laut & Luise)\nJohannes Ton (Laut & Luise)\nRossa Termidis (Laut & Luise)\nAlexander Schwarz (Laut & Luise)\nJonathan Lükermann (Laut & Luise)\nBL Brixton (Südpol)\nMVDL (ill)\nCandy (interrupt fear)\nSiri (2 Nasen tanken Super) \n[ssba_hide]
URL:https://schaudichan.com/event/party-wighnomy-brothers-uebel-und-gefaehrlich-hamburg-30-04-2018/
LOCATION:Uebel & Gefährlich\, Feldstraße 66\, Hamburg\, 20359\, Deutschland
CATEGORIES:Party
ATTACH;FMTTYPE=image/jpeg:https://schaudichan.com/sda-wp/wp-content/uploads/2013/08/uebel_und_gefaehrlich_hamburg.jpg
GEO:53.55655;9.96968
X-APPLE-STRUCTURED-LOCATION;VALUE=URI;X-ADDRESS=Uebel & Gefährlich Feldstraße 66 Hamburg 20359 Deutschland;X-APPLE-RADIUS=500;X-TITLE=Feldstraße 66:geo:9.96968,53.55655
END:VEVENT
END:VCALENDAR