BEGIN:VCALENDAR
VERSION:2.0
PRODID:-//schaudichan.com - ECPv5.16.4.1//NONSGML v1.0//EN
CALSCALE:GREGORIAN
METHOD:PUBLISH
X-WR-CALNAME:schaudichan.com
X-ORIGINAL-URL:https://schaudichan.com
X-WR-CALDESC:Veranstaltungen für schaudichan.com
BEGIN:VTIMEZONE
TZID:Europe/Helsinki
BEGIN:DAYLIGHT
TZOFFSETFROM:+0200
TZOFFSETTO:+0300
TZNAME:EEST
DTSTART:20210328T010000
END:DAYLIGHT
BEGIN:STANDARD
TZOFFSETFROM:+0300
TZOFFSETTO:+0200
TZNAME:EET
DTSTART:20211031T010000
END:STANDARD
END:VTIMEZONE
BEGIN:VEVENT
DTSTART;TZID=Europe/Helsinki:20210926T150000
DTEND;TZID=Europe/Helsinki:20210926T150000
DTSTAMP:20260422T144831
CREATED:20210906T190648Z
LAST-MODIFIED:20210906T191844Z
UID:24118-1632668400-1632668400@schaudichan.com
SUMMARY:Hamburg Blue Devils vs. Hamburg Pioneers
DESCRIPTION:Hamburg Blue Devils – 3. Liga Saison 2021\n \nWichtiger Hinweis: Bitte beachtet beim Ticketkauf\, dass es für jede Veranstaltung bestimmte COVID-19-Richtlinien gibt. Es ist nicht ausgeschlossen\, dass sich diese je nach gültiger Coronavirus-Landesverordnung noch kurzfristig ändern könnten. Informiert Euch bitte vorher beim Veranstalter oder der Ticketvorverkaufsstelle\, welche Einlassregeln gerade gelten!\nStadt-Derby in Hamburg! Hamburg Blue Devils vs. Hamburg Pioneers \n 
URL:https://schaudichan.com/event/sport-hamburg-blue-devils-vs-hamburg-pioneers-26-09-2021/
LOCATION:Sportpark Vorhornweg\, Vorhornweg 1\, Hamburg\, 22547\, Deutschland
CATEGORIES:Sport
ATTACH;FMTTYPE=image/jpeg:https://schaudichan.com/sda-wp/wp-content/uploads/2013/08/hsv_hamburg_blue_devils_001.jpg
END:VEVENT
END:VCALENDAR