BEGIN:VCALENDAR
VERSION:2.0
PRODID:-//schaudichan.com - ECPv5.16.4.1//NONSGML v1.0//EN
CALSCALE:GREGORIAN
METHOD:PUBLISH
X-WR-CALNAME:schaudichan.com
X-ORIGINAL-URL:https://schaudichan.com
X-WR-CALDESC:Veranstaltungen für schaudichan.com
BEGIN:VTIMEZONE
TZID:Europe/Helsinki
BEGIN:DAYLIGHT
TZOFFSETFROM:+0200
TZOFFSETTO:+0300
TZNAME:EEST
DTSTART:20260329T010000
END:DAYLIGHT
BEGIN:STANDARD
TZOFFSETFROM:+0300
TZOFFSETTO:+0200
TZNAME:EET
DTSTART:20261025T010000
END:STANDARD
END:VTIMEZONE
BEGIN:VEVENT
DTSTART;TZID=Europe/Helsinki:20260530T160000
DTEND;TZID=Europe/Helsinki:20260530T160000
DTSTAMP:20260420T054241
CREATED:20260419T171920Z
LAST-MODIFIED:20260419T172222Z
UID:33339-1780156800-1780156800@schaudichan.com
SUMMARY:Kiel Baltic Hurricanes vs. Potsdam Royals
DESCRIPTION:Kiel Baltic Hurricanes – GFL Saison 2026\n \n \nDie Kiel Baltic Hurricanes spielen in der German Football League (GFL)\, der höchsten deutschen Spielklasse im American Football. \nIn diesem Ligaspiel treffen die Kiel Baltic Hurricanes auf die Potsdam Royals. \n \n>> Tickets zum Event <<\n 
URL:https://schaudichan.com/event/sport-kiel-baltic-hurricanes-vs-potsdam-royals-30-05-2026/
LOCATION:Kilia Stadion Kiel\, Hasseldieksdammer Weg 165\, Kiel\, 24114\, Deutschland
CATEGORIES:Sport
ATTACH;FMTTYPE=image/jpeg:https://schaudichan.com/sda-wp/wp-content/uploads/2022/06/220604_kiel_baltic_hurricanes_potsdam_7.jpg
END:VEVENT
END:VCALENDAR