BEGIN:VCALENDAR
VERSION:2.0
PRODID:-//schaudichan.com - ECPv5.16.4.1//NONSGML v1.0//EN
CALSCALE:GREGORIAN
METHOD:PUBLISH
X-WR-CALNAME:schaudichan.com
X-ORIGINAL-URL:https://schaudichan.com
X-WR-CALDESC:Veranstaltungen für schaudichan.com
BEGIN:VTIMEZONE
TZID:Europe/Helsinki
BEGIN:DAYLIGHT
TZOFFSETFROM:+0200
TZOFFSETTO:+0300
TZNAME:EEST
DTSTART:20250330T010000
END:DAYLIGHT
BEGIN:STANDARD
TZOFFSETFROM:+0300
TZOFFSETTO:+0200
TZNAME:EET
DTSTART:20251026T010000
END:STANDARD
END:VTIMEZONE
BEGIN:VEVENT
DTSTART;TZID=Europe/Helsinki:20251025T190000
DTEND;TZID=Europe/Helsinki:20251025T190000
DTSTAMP:20260421T125849
CREATED:20251012T174352Z
LAST-MODIFIED:20251012T174352Z
UID:33085-1761418800-1761418800@schaudichan.com
SUMMARY:Night of the Jumps @ Barclays Arena Hamburg
DESCRIPTION:„Die besten Freestyler der Welt“ in Hamburg!\n \n \nNIGHT of the JUMPs\, die größte Freestyle Motocross Sportserie der Welt\, feiert nach sechs Jahren ein spektakuläres Comeback in Hamburg: Am 25. Oktober 2025 macht die legendäre FMX World Tour Halt in der Hansestadt und verwandelt die Barclays Arena in einen Adrenalin-Tempel voller ikonischer Sportler\, krachender Pyro und halsbrecherischer Stunts. \nZu den Größen der FMX-Szene gesellen sich hochkarätige Mountainbike-\, BMX- und Scooter-Stars\, die sich vom neuen 10\,50 Meter hohen NIGHT of the JUMPs Tower stürzen und krasse Tricks wie Frontflips\, Double Backflips\, Cashrolls oder Twister zeigen. Noch mehr Action gibt es mit den besten Trampolin-Freestylern der Eurotramp-Serie. \nMehr als 400 Shows und über 4 Millionen Zuschauer in 25 Jahren in 46 Städten belegen die Ausstrahlungskraft der NIGHT of the JUMPs als eine der größten Actionsportserien der Welt! \n \n>> Tickets zum Event <<\n 
URL:https://schaudichan.com/event/sport-night-of-the-jumps-barclays-arena-hamburg-25-10-2025/
LOCATION:Barclays Arena Hamburg\, Sylvesterallee 10\, Hamburg\, 22525\, Deutschland
CATEGORIES:Sport
ATTACH;FMTTYPE=image/jpeg:https://schaudichan.com/sda-wp/wp-content/uploads/2015/06/150613_night_of_the_jumps_hamburg_1.jpg
END:VEVENT
END:VCALENDAR