BEGIN:VCALENDAR
VERSION:2.0
PRODID:-//schaudichan.com - ECPv5.16.4.1//NONSGML v1.0//EN
CALSCALE:GREGORIAN
METHOD:PUBLISH
X-WR-CALNAME:schaudichan.com
X-ORIGINAL-URL:https://schaudichan.com
X-WR-CALDESC:Veranstaltungen für schaudichan.com
BEGIN:VTIMEZONE
TZID:Europe/Helsinki
BEGIN:DAYLIGHT
TZOFFSETFROM:+0200
TZOFFSETTO:+0300
TZNAME:EEST
DTSTART:20220327T010000
END:DAYLIGHT
BEGIN:STANDARD
TZOFFSETFROM:+0300
TZOFFSETTO:+0200
TZNAME:EET
DTSTART:20221030T010000
END:STANDARD
END:VTIMEZONE
BEGIN:VEVENT
DTSTART;TZID=Europe/Helsinki:20221129T190000
DTEND;TZID=Europe/Helsinki:20221129T190000
DTSTAMP:20260422T234234
CREATED:20221011T200336Z
LAST-MODIFIED:20221011T200336Z
UID:26109-1669748400-1669748400@schaudichan.com
SUMMARY:The Harlem Globetrotters @ edel-optics.de Arena Hamburg
DESCRIPTION:Die spektakuläre Basketballshow in Hamburg!\n \nWichtiger Hinweis: Bitte beachtet beim Ticketkauf\, dass es für jede Veranstaltung bestimmte COVID-19-Richtlinien gibt. Es ist nicht ausgeschlossen\, dass sich diese je nach gültiger Coronavirus-Landesverordnung noch kurzfristig ändern könnten. Informiert Euch bitte vorher beim Veranstalter oder der Ticketvorverkaufsstelle\, welche Einlassregeln gerade gelten!\n\nMit ihrer Spielweise haben sie den Basketballsport revolutioniert. Ihre beeindruckende Teamgeschichte und sensationellen Live-Auftritte machen sie weltberühmt. Ihre furiosen Internetvideos werden millionenfach geklickt. Grandiose Korbtreffer bescheren ihnen jedes Jahr aufs Neue haufenweise Eintragungen ins Guinness Buch der Rekorde. Sie sind Kult und unerreicht. Die Rede ist von der bekanntesten Basketballtruppe der Welt\, den legendären Harlem Globetrotters! \nNach der jüngsten Tournee angesagter denn je\, kehren die coolen Ausnahmeathleten 2022 nach Deutschland zurück. Kommentiert von einem deutschen Showsprecher\, werden die Harlem Globetrotters ihre neue\, mitreißende Basketballshow für die ganze Familie aufs Parkett zaubern. \nIm unnachahmlichen Zusammenspiel vereinen die Spieler außergewöhnliches Basketballkönnen mit wahnwitzigen Showeinlagen zu einem ganz eigenen Unterhaltungsgenre. In der neuen Show glänzen die Harlem Globetrotters mit sportlichen Höchstleistungen und genialer Basketballkunst\, gepaart mit rasend komischen Slapstickeinlagen! \n>> Tickets zum Event <<
URL:https://schaudichan.com/event/sport-the-harlem-globetrotters-basketball-edel-optics-arena-hamburg-29-11-2022/
LOCATION:edel-optics.de Arena Hamburg\, Kurt-Emmerich-Platz 10\, Hamburg\, 21109\, Deutschland
CATEGORIES:Sport
ATTACH;FMTTYPE=image/jpeg:https://schaudichan.com/sda-wp/wp-content/uploads/2016/05/160510_harlem_globetrotters_basketball_hamburg_1.jpg
GEO:53.4966662;10.003583
X-APPLE-STRUCTURED-LOCATION;VALUE=URI;X-ADDRESS=edel-optics.de Arena Hamburg Kurt-Emmerich-Platz 10 Hamburg 21109 Deutschland;X-APPLE-RADIUS=500;X-TITLE=Kurt-Emmerich-Platz 10:geo:10.003583,53.4966662
END:VEVENT
END:VCALENDAR